Workbook

Sheet Buchungen
A1: Vermietung – Buchungen und Gewinn-/Verlustermittlung
A3: Buchungs-ID | B3: Buchungsdatum | C3: Wirtschaftsjahr | D3: Eigentümer | E3: Objekt | F3: Straße | G3: Stadt | H3: Einheit | I3: Mieter | J3: Einnahmenart | K3: Kostenart | L3: Umlagefähig? | M3: Steuerlich absetzbar? | N3: Betrag brutto | O3: MwSt. | P3: Betrag netto | Q3: Zahlungsstatus | R3: Zahlungsmonat | S3: Bemerkung
A4: BU-2026-001 | B4: 46027 | C4: =IF($B4="","",YEAR($B4)) | D4: Thomas Becker | E4: Mehrfamilienhaus Hauptstraße 12 | F4: Hauptstraße 12 | G4: Berlin | H4: 1. OG links | I4: Sabine Müller | J4: Kaltmiete | L4: Nein | M4: Nein | N4: 1180 | O4: 0 | P4: =IF($N4="","",IFERROR($N4-IF($O4="",0,$O4),0)) | Q4: Bezahlt | R4: =IF($B4="","",IFERROR(VLOOKUP(MONTH($B4),'GuV und Dashboard'!$N$6:$O$17,2,FALSE),"")) | S4: Kaltmiete Januar 2026
A5: BU-2026-002 | B5: 46027 | C5: =IF($B5="","",YEAR($B5)) | D5: Thomas Becker | E5: Mehrfamilienhaus Hauptstraße 12 | F5: Hauptstraße 12 | G5: Berlin | H5: 1. OG links | I5: Sabine Müller | J5: Nebenkostenvorauszahlung | L5: Nein | M5: Nein | N5: 260 | O5: 0 | P5: =IF($N5="","",IFERROR($N5-IF($O5="",0,$O5),0)) | Q5: Bezahlt | R5: =IF($B5="","",IFERROR(VLOOKUP(MONTH($B5),'GuV und Dashboard'!$N$6:$O$17,2,FALSE),"")) | S5: Nebenkostenvorauszahlung Januar 2026
A6: BU-2026-003 | B6: 46037 | C6: =IF($B6="","",YEAR($B6)) | D6: Thomas Becker | E6: Mehrfamilienhaus Hauptstraße 12 | F6: Hauptstraße 12 | G6: Berlin | H6: Gesamtobjekt | J6: Hausverwaltung | K6: Nein | L6: Ja | M6: 145 | N6: 23.15 | O6: Bezahlt | P6: =IF($N6="","",IFERROR($N6-IF($O6="",0,$O6),0)) | Q6: Monatliche Hausverwaltungsgebühr | R6: =IF($B6="","",IFERROR(VLOOKUP(MONTH($B6),'GuV und Dashboard'!$N$6:$O$17,2,FALSE),""))
A7: BU-2026-004 | B7: 46056 | C7: =IF($B7="","",YEAR($B7)) | D7: Sabine Müller | E7: Wohnung Lindenallee 7 | F7: Lindenallee 7 | G7: München | H7: 2. OG rechts | I7: Lukas König | J7: Kaltmiete | L7: Nein | M7: Nein | N7: 1420 | O7: 0 | P7: =IF($N7="","",IFERROR($N7-IF($O7="",0,$O7),0)) | Q7: Bezahlt | R7: =IF($B7="","",IFERROR(VLOOKUP(MONTH($B7),'GuV und Dashboard'!$N$6:$O$17,2,FALSE),"")) | S7: Kaltmiete Februar 2026
A8: BU-2026-005 | B8: 46071 | C8: =IF($B8="","",YEAR($B8)) | D8: Sabine Müller | E8: Wohnung Lindenallee 7 | F8: Lindenallee 7 | G8: München | H8: Gesamtobjekt | I8: Lukas König | K8: Grundsteuer | L8: Ja | M8: Ja | N8: 310 | O8: 0 | P8: =IF($N8="","",IFERROR($N8-IF($O8="",0,$O8),0)) | Q8: Bezahlt | R8: =IF($B8="","",IFERROR(VLOOKUP(MONTH($B8),'GuV und Dashboard'!$N$6:$O$17,2,FALSE),"")) | S8: Grundsteuerbescheid 2026
A9: BU-2026-006 | B9: 46085 | C9: =IF($B9="","",YEAR($B9)) | D9: Andreas Schneider | E9: Wohnung Goethestraße 45 | F9: Goethestraße 45 | G9: Hamburg | H9: EG links | I9: Anna Krause | J9: Kaltmiete | L9: Nein | M9: Nein | N9: 1050 | O9: 0 | P9: =IF($N9="","",IFERROR($N9-IF($O9="",0,$O9),0)) | Q9: Bezahlt | R9: =IF($B9="","",IFERROR(VLOOKUP(MONTH($B9),'GuV und Dashboard'!$N$6:$O$17,2,FALSE),"")) | S9: Kaltmiete März 2026
A10: BU-2026-007 | B10: 46093 | C10: =IF($B10="","",YEAR($B10)) | D10: Petra Wagner | E10: Wohnung Bahnhofstraße 18 | F10: Bahnhofstraße 18 | G10: Köln | H10: 3. OG links | I10: David Neumann | K10: Instandhaltung und Reparaturen | L10: Nein | M10: Ja | N10: 680 | O10: 108.57 | P10: =IF($N10="","",IFERROR($N10-IF($O10="",0,$O10),0)) | Q10: Bezahlt | R10: =IF($B10="","",IFERROR(VLOOKUP(MONTH($B10),'GuV und Dashboard'!$N$6:$O$17,2,FALSE),"")) | S10: Sanitärreparatur Bad
A11: BU-2026-008 | B11: 46120 | C11: =IF($B11="","",YEAR($B11)) | D11: Michael Hoffmann | E11: Wohnung Gartenstraße 9 | F11: Gartenstraße 9 | G11: Frankfurt am Main | H11: 1. OG rechts | I11: Miriam Wolf | K11: Versicherungen | L11: Teilweise | M11: Ja | N11: 225 | O11: 0 | P11: =IF($N11="","",IFERROR($N11-IF($O11="",0,$O11),0)) | Q11: Bezahlt | R11: =IF($B11="","",IFERROR(VLOOKUP(MONTH($B11),'GuV und Dashboard'!$N$6:$O$17,2,FALSE),"")) | S11: Gebäudeversicherung 2026
A12: BU-2026-009 | B12: 46127 | C12: =IF($B12="","",YEAR($B12)) | D12: Julia Richter | E12: Wohnung Rosenweg 21 | F12: Rosenweg 21 | G12: Stuttgart | H12: 2. OG links | I12: Felix Braun | K12: Darlehenszinsen | L12: Nein | M12: Ja | N12: 540 | O12: 0 | P12: =IF($N12="","",IFERROR($N12-IF($O12="",0,$O12),0)) | Q12: Bezahlt | R12: =IF($B12="","",IFERROR(VLOOKUP(MONTH($B12),'GuV und Dashboard'!$N$6:$O$17,2,FALSE),"")) | S12: Darlehenszinsen April 2026
A13: BU-2026-010 | B13: 46144 | C13: =IF($B13="","",YEAR($B13)) | D13: Stefan Weber | E13: Wohnung Parkstraße 6 | F13: Parkstraße 6 | G13: Düsseldorf | H13: EG rechts | I13: Nina Fischer | K13: Mietausfall | L13: Nein | M13: Nein | N13: 750 | O13: 0 | P13: =IF($N13="","",IFERROR($N13-IF($O13="",0,$O13),0)) | Q13: Offen | R13: =IF($B13="","",IFERROR(VLOOKUP(MONTH($B13),'GuV und Dashboard'!$N$6:$O$17,2,FALSE),"")) | S13: Mietausfall wegen offener Zahlung
C14: =IF($B14="","",YEAR($B14)) | P14: =IF($N14="","",IFERROR($N14-IF($O14="",0,$O14),0)) | R14: =IF($B14="","",IFERROR(VLOOKUP(MONTH($B14),'GuV und Dashboard'!$N$6:$O$17,2,FALSE),""))
C15: =IF($B15="","",YEAR($B15)) | P15: =IF($N15="","",IFERROR($N15-IF($O15="",0,$O15),0)) | R15: =IF($B15="","",IFERROR(VLOOKUP(MONTH($B15),'GuV und Dashboard'!$N$6:$O$17,2,FALSE),""))
C16: =IF($B16="","",YEAR($B16)) | P16: =IF($N16="","",IFERROR($N16-IF($O16="",0,$O16),0)) | R16: =IF($B16="","",IFERROR(VLOOKUP(MONTH($B16),'GuV und Dashboard'!$N$6:$O$17,2,FALSE),""))
C17: =IF($B17="","",YEAR($B17)) | P17: =IF($N17="","",IFERROR($N17-IF($O17="",0,$O17),0)) | R17: =IF($B17="","",IFERROR(VLOOKUP(MONTH($B17),'GuV und Dashboard'!$N$6:$O$17,2,FALSE),""))
C18: =IF($B18="","",YEAR($B18)) | P18: =IF($N18="","",IFERROR($N18-IF($O18="",0,$O18),0)) | R18: =IF($B18="","",IFERROR(VLOOKUP(MONTH($B18),'GuV und Dashboard'!$N$6:$O$17,2,FALSE),""))
C19: =IF($B19="","",YEAR($B19)) | P19: =IF($N19="","",IFERROR($N19-IF($O19="",0,$O19),0)) | R19: =IF($B19="","",IFERROR(VLOOKUP(MONTH($B19),'GuV und Dashboard'!$N$6:$O$17,2,FALSE),""))
C20: =IF($B20="","",YEAR($B20)) | P20: =IF($N20="","",IFERROR($N20-IF($O20="",0,$O20),0)) | R20: =IF($B20="","",IFERROR(VLOOKUP(MONTH($B20),'GuV und Dashboard'!$N$6:$O$17,2,FALSE),""))
C21: =IF($B21="","",YEAR($B21)) | P21: =IF($N21="","",IFERROR($N21-IF($O21="",0,$O21),0)) | R21: =IF($B21="","",IFERROR(VLOOKUP(MONTH($B21),'GuV und Dashboard'!$N$6:$O$17,2,FALSE),""))
C22: =IF($B22="","",YEAR($B22)) | P22: =IF($N22="","",IFERROR($N22-IF($O22="",0,$O22),0)) | R22: =IF($B22="","",IFERROR(VLOOKUP(MONTH($B22),'GuV und Dashboard'!$N$6:$O$17,2,FALSE),""))
C23: =IF($B23="","",YEAR($B23)) | P23: =IF($N23="","",IFERROR($N23-IF($O23="",0,$O23),0)) | R23: =IF($B23="","",IFERROR(VLOOKUP(MONTH($B23),'GuV und Dashboard'!$N$6:$O$17,2,FALSE),""))
C24: =IF($B24="","",YEAR($B24)) | P24: =IF($N24="","",IFERROR($N24-IF($O24="",0,$O24),0)) | R24: =IF($B24="","",IFERROR(VLOOKUP(MONTH($B24),'GuV und Dashboard'!$N$6:$O$17,2,FALSE),""))
C25: =IF($B25="","",YEAR($B25)) | P25: =IF($N25="","",IFERROR($N25-IF($O25="",0,$O25),0)) | R25: =IF($B25="","",IFERROR(VLOOKUP(MONTH($B25),'GuV und Dashboard'!$N$6:$O$17,2,FALSE),""))
... C104: =IF($B104="","",YEAR($B104)) | P104: =IF($N104="","",IFERROR($N104-IF($O104="",0,$O104),0)) | R104: =IF($B104="","",IFERROR(VLOOKUP(MONTH($B104),'GuV und Dashboard'!$N$6:$O$17,2,FALSE),""))

Sheet GuV und Dashboard
A1: Gewinn- und Verlustrechnung Vermietung – Dashboard
A2: Auswertungsjahr | B2: 2026 | I2: Kennzahlen | J2: Wert
A3: Kaufpreis | B3: 360000 | I3: Jahresgesamterträge Kaltmiete | J3: =SUMIFS('Buchungen'!$N$4:$N$104,'Buchungen'!$B$4:$B$104,">="&DATE($B$2,1,1),'Buchungen'!$B$4:$B$104,"<="&DATE($B$2,12,31),'Buchungen'!$J$4:$J$104,"Kaltmiete")
A4: Gebäudewert | B4: 270000 | I4: Umlagefähige Kosten | J4: =SUMIFS('Buchungen'!$N$4:$N$104,'Buchungen'!$L$4:$L$104,"Ja",'Buchungen'!$K$4:$K$104,"<>")
A5: AfA-Satz | B5: 0.02 | I5: Steuerlich absetzbare Kosten | J5: =SUMIFS('Buchungen'!$N$4:$N$104,'Buchungen'!$M$4:$M$104,"Ja",'Buchungen'!$C$4:$C$104,$B$2) | N5: Monat Nr. | O5: Monatsname
A6: Einnahmen | B6: Betrag | I6: Offene Buchungen | J6: =COUNTIF('Buchungen'!$Q$4:$Q$104,"Offen") | N6: 1 | O6: Januar
A7: Kaltmieten | B7: =SUMIFS('Buchungen'!$N$4:$N$104,'Buchungen'!$J$4:$J$104,"Kaltmiete",'Buchungen'!$C$4:$C$104,$B$2) | I7: Durchschnittlicher Buchungsbetrag | J7: =IFERROR(AVERAGE('Buchungen'!$N$4:$N$104),0) | N7: 2 | O7: Februar
A8: Stellplatz- und sonstige Mieten | B8: =SUMIFS('Buchungen'!$N$4:$N$104,'Buchungen'!$J$4:$J$104,"Stellplatzmiete",'Buchungen'!$C$4:$C$104,$B$2) | I8: Monatliche Durchschnittseinnahmen | J8: =IFERROR(AVERAGE($B$7:$B$10),0) | N8: 3 | O8: März
A9: Nebenkostenvorauszahlungen | B9: =SUMIFS('Buchungen'!$N$4:$N$104,'Buchungen'!$J$4:$J$104,"Nebenkostenvorauszahlung",'Buchungen'!$C$4:$C$104,$B$2) | I9: Anzahl Buchungen | J9: =COUNTIF('Buchungen'!$C$4:$C$104,$B$2) | N9: 4 | O9: April
A10: Sonstige Einnahmen | B10: =SUMIFS('Buchungen'!$N$4:$N$104,'Buchungen'!$J$4:$J$104,"Sonstige Einnahmen",'Buchungen'!$C$4:$C$104,$B$2) | I10: Zahlungsstatus-Warnung | J10: =IF(COUNTIFS('Buchungen'!$Q$4:$Q$104,"Offen",'Buchungen'!$C$4:$C$104,$B$2)>0,"Offene Zahlungen prüfen","Alle Zahlungen erfasst") | N10: 5 | O10: Mai
A11: Summe Einnahmen | B11: =SUM($B$7:$B$10) | N11: 6 | O11: Juni
I12: Nettomietrendite | J12: =IFERROR(($B$11-$B$22)/$B$3,0) | N12: 7 | O12: Juli
A13: Ausgaben | B13: Betrag | I13: Kostenquote | J13: =IFERROR($B$22/$B$11,0) | N13: 8 | O13: August
A14: Umlagefähige Betriebskosten | B14: =SUMIFS('Buchungen'!$N$4:$N$104,'Buchungen'!$K$4:$K$104,"Betriebskosten",'Buchungen'!$L$4:$L$104,"Ja",'Buchungen'!$C$4:$C$104,$B$2) | I14: Leerstands-/Mietausfallquote | J14: =IFERROR(SUMIFS('Buchungen'!$N$4:$N$104,'Buchungen'!$K$4:$K$104,"Mietausfall",'Buchungen'!$C$4:$C$104,$B$2)/$B$7,0) | N14: 9 | O14: September
A15: Nicht umlagefähige Betriebskosten | B15: =SUMIFS('Buchungen'!$N$4:$N$104,'Buchungen'!$K$4:$K$104,"Betriebskosten",'Buchungen'!$L$4:$L$104,"Nein",'Buchungen'!$C$4:$C$104,$B$2) | N15: 10 | O15: Oktober
A16: Instandhaltung und Reparaturen | B16: =SUMIFS('Buchungen'!$N$4:$N$104,'Buchungen'!$K$4:$K$104,"Instandhaltung und Reparaturen",'Buchungen'!$C$4:$C$104,$B$2) | N16: 11 | O16: November
A17: Hausverwaltung | B17: =SUMIFS('Buchungen'!$N$4:$N$104,'Buchungen'!$K$4:$K$104,"Hausverwaltung",'Buchungen'!$C$4:$C$104,$B$2) | N17: 12 | O17: Dezember
A18: Versicherungen | B18: =SUMIFS('Buchungen'!$N$4:$N$104,'Buchungen'!$K$4:$K$104,"Versicherungen",'Buchungen'!$C$4:$C$104,$B$2)
A19: Grundsteuer | B19: =SUMIFS('Buchungen'!$N$4:$N$104,'Buchungen'!$K$4:$K$104,"Grundsteuer",'Buchungen'!$C$4:$C$104,$B$2)
A20: Darlehenszinsen | B20: =SUMIFS('Buchungen'!$N$4:$N$104,'Buchungen'!$K$4:$K$104,"Darlehenszinsen",'Buchungen'!$C$4:$C$104,$B$2) | N20: Kategorie | O20: Einnahmen | P20: Ausgaben | T20: Kostenart | U20: Ausgaben
A21: Sonstige Werbungskosten | B21: =SUMIFS('Buchungen'!$N$4:$N$104,'Buchungen'!$K$4:$K$104,"Sonstige Werbungskosten",'Buchungen'!$C$4:$C$104,$B$2)+SUMIFS('Buchungen'!$N$4:$N$104,'Buchungen'!$K$4:$K$104,"Mietausfall",'Buchungen'!$C$4:$C$104,$B$2) | N21: Kaltmieten | O21: =$B$7 | P21: =0 | T21: =$A$14 | U21: =$B$14
A22: Summe Ausgaben | B22: =SUM($B$14:$B$21) | N22: Stellplatz- und sonstige Mieten | O22: =$B$8 | P22: =0 | T22: =$A$15 | U22: =$B$15
A23: Überschuss / Verlust vor AfA | B23: =$B$11-$B$22 | N23: Nebenkostenvorauszahlungen | O23: =$B$9 | P23: =0 | T23: =$A$16 | U23: =$B$16
A24: AfA Gebäude | B24: =IFERROR($B$4*$B$5,0) | N24: Sonstige Einnahmen | O24: =$B$10 | P24: =0 | T24: =$A$17 | U24: =$B$17
A25: Steuerlicher Überschuss / Verlust | B25: =$B$23-$B$24 | N25: Umlagefähige Betriebskosten | O25: =0 | P25: =$B$14 | T25: =$A$18 | U25: =$B$18
N26: Nicht umlagefähige Betriebskosten | O26: =0 | P26: =$B$15 | T26: =$A$19 | U26: =$B$19
N27: Instandhaltung und Reparaturen | O27: =0 | P27: =$B$16 | T27: =$A$20 | U27: =$B$20
N28: Hausverwaltung | O28: =0 | P28: =$B$17 | T28: =$A$21 | U28: =$B$21
N29: Versicherungen | O29: =0 | P29: =$B$18
N30: Grundsteuer | O30: =0 | P30: =$B$19
N31: Darlehenszinsen | O31: =0 | P31: =$B$20
N32: Sonstige Werbungskosten | O32: =0 | P32: =$B$21
N36: Monat | O36: Monat Nr. | P36: Einnahmen | Q36: Ausgaben | R36: Cashflow
N37: Januar | O37: 1 | P37: =SUMIFS('Buchungen'!$N$4:$N$104,'Buchungen'!$B$4:$B$104,">="&DATE($B$2,$O37,1),'Buchungen'!$B$4:$B$104,"<"&DATE($B$2,$O37+1,1),'Buchungen'!$J$4:$J$104,"<>") | Q37: =SUMIFS('Buchungen'!$N$4:$N$104,'Buchungen'!$B$4:$B$104,">="&DATE($B$2,$O37,1),'Buchungen'!$B$4:$B$104,"<"&DATE($B$2,$O37+1,1),'Buchungen'!$K$4:$K$104,"<>") | R37: =$P37-$Q37
N38: Februar | O38: 2 | P38: =SUMIFS('Buchungen'!$N$4:$N$104,'Buchungen'!$B$4:$B$104,">="&DATE($B$2,$O38,1),'Buchungen'!$B$4:$B$104,"<"&DATE($B$2,$O38+1,1),'Buchungen'!$J$4:$J$104,"<>") | Q38: =SUMIFS('Buchungen'!$N$4:$N$104,'Buchungen'!$B$4:$B$104,">="&DATE($B$2,$O38,1),'Buchungen'!$B$4:$B$104,"<"&DATE($B$2,$O38+1,1),'Buchungen'!$K$4:$K$104,"<>") | R38: =$P38-$Q38
N39: März | O39: 3 | P39: =SUMIFS('Buchungen'!$N$4:$N$104,'Buchungen'!$B$4:$B$104,">="&DATE($B$2,$O39,1),'Buchungen'!$B$4:$B$104,"<"&DATE($B$2,$O39+1,1),'Buchungen'!$J$4:$J$104,"<>") | Q39: =SUMIFS('Buchungen'!$N$4:$N$104,'Buchungen'!$B$4:$B$104,">="&DATE($B$2,$O39,1),'Buchungen'!$B$4:$B$104,"<"&DATE($B$2,$O39+1,1),'Buchungen'!$K$4:$K$104,"<>") | R39: =$P39-$Q39
N40: April | O40: 4 | P40: =SUMIFS('Buchungen'!$N$4:$N$104,'Buchungen'!$B$4:$B$104,">="&DATE($B$2,$O40,1),'Buchungen'!$B$4:$B$104,"<"&DATE($B$2,$O40+1,1),'Buchungen'!$J$4:$J$104,"<>") | Q40: =SUMIFS('Buchungen'!$N$4:$N$104,'Buchungen'!$B$4:$B$104,">="&DATE($B$2,$O40,1),'Buchungen'!$B$4:$B$104,"<"&DATE($B$2,$O40+1,1),'Buchungen'!$K$4:$K$104,"<>") | R40: =$P40-$Q40
N41: Mai | O41: 5 | P41: =SUMIFS('Buchungen'!$N$4:$N$104,'Buchungen'!$B$4:$B$104,">="&DATE($B$2,$O41,1),'Buchungen'!$B$4:$B$104,"<"&DATE($B$2,$O41+1,1),'Buchungen'!$J$4:$J$104,"<>") | Q41: =SUMIFS('Buchungen'!$N$4:$N$104,'Buchungen'!$B$4:$B$104,">="&DATE($B$2,$O41,1),'Buchungen'!$B$4:$B$104,"<"&DATE($B$2,$O41+1,1),'Buchungen'!$K$4:$K$104,"<>") | R41: =$P41-$Q41
N42: Juni | O42: 6 | P42: =SUMIFS('Buchungen'!$N$4:$N$104,'Buchungen'!$B$4:$B$104,">="&DATE($B$2,$O42,1),'Buchungen'!$B$4:$B$104,"<"&DATE($B$2,$O42+1,1),'Buchungen'!$J$4:$J$104,"<>") | Q42: =SUMIFS('Buchungen'!$N$4:$N$104,'Buchungen'!$B$4:$B$104,">="&DATE($B$2,$O42,1),'Buchungen'!$B$4:$B$104,"<"&DATE($B$2,$O42+1,1),'Buchungen'!$K$4:$K$104,"<>") | R42: =$P42-$Q42
N43: Juli | O43: 7 | P43: =SUMIFS('Buchungen'!$N$4:$N$104,'Buchungen'!$B$4:$B$104,">="&DATE($B$2,$O43,1),'Buchungen'!$B$4:$B$104,"<"&DATE($B$2,$O43+1,1),'Buchungen'!$J$4:$J$104,"<>") | Q43: =SUMIFS('Buchungen'!$N$4:$N$104,'Buchungen'!$B$4:$B$104,">="&DATE($B$2,$O43,1),'Buchungen'!$B$4:$B$104,"<"&DATE($B$2,$O43+1,1),'Buchungen'!$K$4:$K$104,"<>") | R43: =$P43-$Q43
...

Sheet Anleitung
A1: Anleitung zur Vermietung Gewinn- und Verlustermittlung
A3: Schritt | B3: Hinweis
A4: 1 | B4: Erfassen Sie jede Einnahme und Ausgabe im Blatt „Buchungen“. Tragen Sie Buchungsdatum, Eigentümer, Objekt, Einheit, Betrag und Zahlungsstatus vollständig ein.
A5: 2 | B5: Markieren Sie umlagefähige Kosten gemäß Mietvertrag und Betriebskostenverordnung. Bei teilweise umlagefähigen Positionen dokumentieren Sie den Anteil nachvollziehbar in der Bemerkung.
A6: 3 | B6: Kennzeichnen Sie steuerlich absetzbare Werbungskosten für die Anlage V. Prüfen Sie insbesondere Darlehenszinsen, Hausverwaltung, Versicherungen und Reparaturen.
A7: 4 | B7: Prüfen Sie offene Zahlungen und Mietausfälle regelmäßig. Offene Buchungen werden im Blatt „Buchungen“ sowie im Dashboard rot hervorgehoben.
A8: 5 | B8: Hinterlegen Sie Kaufpreis, Gebäudewert und AfA-Satz im Blatt „GuV und Dashboard“. Diese Eingaben sind editierbar und dienen der steuerlichen Auswertung.
A9: 6 | B9: Wählen Sie im Dashboard das gewünschte Wirtschaftsjahr. Die GuV, Kennzahlen und Diagramme beziehen sich auf die erfassten Buchungen des gewählten Jahres.
A12: Fachliche Hinweise | B12: Erläuterung
A13: AfA Gebäude | B13: Die AfA wird im Dashboard als Gebäudewert multipliziert mit dem eingegebenen AfA-Satz berechnet. Prüfen Sie den zutreffenden Satz anhand des Baujahrs und Ihrer steuerlichen Unterlagen.
A14: Darlehenszinsen | B14: Darlehenszinsen können bei Vermietung regelmäßig Werbungskosten darstellen. Tilgungsleistungen sind dagegen keine Werbungskosten und sollten nicht als Darlehenszinsen erfasst werden.
A15: Instandhaltung | B15: Erfassen Sie Reparaturen und Instandhaltungen getrennt von Herstellungskosten. Bei größeren Maßnahmen kann eine steuerliche Abgrenzung erforderlich sein.
A16: Nebenkostenabrechnung | B16: Nebenkostenvorauszahlungen sind Einnahmen. Umlagefähige Betriebskosten sollten so dokumentiert werden, dass eine spätere Nebenkostenabrechnung nachvollziehbar erstellt werden kann.
... A18: Hinweis | B18: Verwenden Sie die Ergebnisse nicht als Ersatz für eine steuerliche oder rechtliche Beratung. Lassen Sie Zweifelsfragen durch eine Steuerberaterin, einen Steuerberater oder eine fachkundige Stelle prüfen.
