Workbook

Sheet Erhaltungsaufwand
A1: Vorgangs-ID | B1: Objekt | C1: Adresse | D1: Stadt | E1: Eigentümer | F1: Maßnahme / Beschreibung | G1: Kategorie | H1: Rechnungssteller | I1: Rechnungsnummer | J1: Rechnungsdatum | K1: Zahlungsdatum | L1: Nettoaufwand (€) | M1: Vorsteuer (€) | N1: Bruttoaufwand (€) | O1: Umlagefähig? | P1: Steuerlich sofort abzugsfähig? | Q1: Verteilungszeitraum (Jahre) | R1: Beginn Verteilung | S1: Ende Verteilung | T1: Jährlicher Verteilungsbetrag (€) | U1: Monatlicher Verteilungsbetrag (€) | V1: Bereits berücksichtigt (€) | W1: Restbetrag (€) | X1: Status | Y1: Bemerkung | Z1: Kategoriehinweis
A2: EA-2026-001 | B2: Wohnanlage Hauptstraße 12 | C2: Hauptstraße 12 | D2: Berlin | E2: Thomas Becker | F2: Dachreparatur einschließlich Abdichtung | G2: Dach | H2: Dachbau Krüger GmbH | I2: DK-2026-118 | J2: 46040 | K2: 46055 | L2: 15504.2 | M2: 2945.8 | N2: =IF(L2="","",L2+M2) | O2: Nein | P2: Nein | Q2: 5 | R2: 46023 | S2: =IF(OR(Q2="",R2=""),"",DATE(YEAR(R2)+Q2-1,12,31)) | T2: =IF(OR(N2="",Q2=""),"",IFERROR(N2/Q2,0)) | U2: =IF(T2="","",IFERROR(T2/12,0)) | V2: 3690 | W2: =IF(N2="","",IFERROR(MAX(0,N2-V2),0)) | X2: =IF(N2="","",IF(Q2=1,"Sofortabzug",IF(W2<=0,"Vollständig berücksichtigt","In Verteilung"))) | Y2: Prüfung nach § 82b EStDV vorgesehen | Z2: =IF(G2="","",IFERROR(VLOOKUP(G2,'Jahresübersicht'!$K$8:$L$15,2,FALSE),"Nicht zugeordnet"))
A3: EA-2026-002 | B3: Eigentumswohnung Lindenallee 7 | C3: Lindenallee 7 | D3: München | E3: Sabine Müller | F3: Heizungsreparatur an der Zentralheizung | G3: Heizung | H3: Thermoteam Bayern GmbH | I3: TB-26041 | J3: 46062 | K3: 46071 | L3: 8235.29 | M3: 1564.71 | N3: =IF(L3="","",L3+M3) | O3: Nein | P3: Nein | Q3: 3 | R3: 46054 | S3: =IF(OR(Q3="",R3=""),"",DATE(YEAR(R3)+Q3-1,12,31)) | T3: =IF(OR(N3="",Q3=""),"",IFERROR(N3/Q3,0)) | U3: =IF(T3="","",IFERROR(T3/12,0)) | V3: 3266.67 | W3: =IF(N3="","",IFERROR(MAX(0,N3-V3),0)) | X3: =IF(N3="","",IF(Q3=1,"Sofortabzug",IF(W3<=0,"Vollständig berücksichtigt","In Verteilung"))) | Y3: Verteilung mit Steuerberatung abstimmen | Z3: =IF(G3="","",IFERROR(VLOOKUP(G3,'Jahresübersicht'!$K$8:$L$15,2,FALSE),"Nicht zugeordnet"))
A4: EA-2026-003 | B4: Mehrfamilienhaus Goethestraße 45 | C4: Goethestraße 45 | D4: Hamburg | E4: Andreas Schneider | F4: Fassadeninstandsetzung und Putzreparatur | G4: Fassade | H4: Nordbau Sanierung GmbH | I4: NB-2026-207 | J4: 46075 | K4: 46086 | L4: 23193.28 | M4: 4406.72 | N4: =IF(L4="","",L4+M4) | O4: Nein | P4: Nein | Q4: 5 | R4: 46054 | S4: =IF(OR(Q4="",R4=""),"",DATE(YEAR(R4)+Q4-1,12,31)) | T4: =IF(OR(N4="",Q4=""),"",IFERROR(N4/Q4,0)) | U4: =IF(T4="","",IFERROR(T4/12,0)) | V4: 5520 | W4: =IF(N4="","",IFERROR(MAX(0,N4-V4),0)) | X4: =IF(N4="","",IF(Q4=1,"Sofortabzug",IF(W4<=0,"Vollständig berücksichtigt","In Verteilung"))) | Y4: Gerüstkosten im Aufwand enthalten | Z4: =IF(G4="","",IFERROR(VLOOKUP(G4,'Jahresübersicht'!$K$8:$L$15,2,FALSE),"Nicht zugeordnet"))
A5: EA-2026-004 | B5: Wohnung Schillerstraße 18 | C5: Schillerstraße 18 | D5: Köln | E5: Petra Wagner | F5: Fensterreparatur und Beschlagtausch | G5: Fenster | H5: Fensterbau Reuter KG | I5: FR-6019 | J5: 46087 | K5: 46095 | L5: 5243.7 | M5: 996.3 | N5: =IF(L5="","",L5+M5) | O5: Nein | P5: Ja | Q5: 1 | R5: 46082 | S5: =IF(OR(Q5="",R5=""),"",DATE(YEAR(R5)+Q5-1,12,31)) | T5: =IF(OR(N5="",Q5=""),"",IFERROR(N5/Q5,0)) | U5: =IF(T5="","",IFERROR(T5/12,0)) | V5: 6240 | W5: =IF(N5="","",IFERROR(MAX(0,N5-V5),0)) | X5: =IF(N5="","",IF(Q5=1,"Sofortabzug",IF(W5<=0,"Vollständig berücksichtigt","In Verteilung"))) | Y5: Sofortabzug vorbehaltlich steuerlicher Prüfung | Z5: =IF(G5="","",IFERROR(VLOOKUP(G5,'Jahresübersicht'!$K$8:$L$15,2,FALSE),"Nicht zugeordnet"))
A6: EA-2026-005 | B6: Mietshaus Gartenstraße 22 | C6: Gartenstraße 22 | D6: Frankfurt am Main | E6: Michael Hoffmann | F6: Sanitärarbeiten an Steigleitungen | G6: Sanitär | H6: Sanitärtechnik Main GmbH | I6: SM-2026-88 | J6: 46102 | K6: 46114 | L6: 4159.66 | M6: 790.34 | N6: =IF(L6="","",L6+M6) | O6: Nein | P6: Ja | Q6: 1 | R6: 46082 | S6: =IF(OR(Q6="",R6=""),"",DATE(YEAR(R6)+Q6-1,12,31)) | T6: =IF(OR(N6="",Q6=""),"",IFERROR(N6/Q6,0)) | U6: =IF(T6="","",IFERROR(T6/12,0)) | V6: 4950 | W6: =IF(N6="","",IFERROR(MAX(0,N6-V6),0)) | X6: =IF(N6="","",IF(Q6=1,"Sofortabzug",IF(W6<=0,"Vollständig berücksichtigt","In Verteilung"))) | Y6: Keine Umlage auf Mieter vorgesehen | Z6: =IF(G6="","",IFERROR(VLOOKUP(G6,'Jahresübersicht'!$K$8:$L$15,2,FALSE),"Nicht zugeordnet"))
A7: EA-2026-006 | B7: Eigentumswohnung Rosenweg 9 | C7: Rosenweg 9 | D7: Stuttgart | E7: Julia Richter | F7: Elektroarbeiten und Erneuerung Unterverteilung | G7: Elektro | H7: Elektro Schmid GmbH | I7: ES-260517 | J7: 46142 | K7: 46154 | L7: 10336.13 | M7: 1963.87 | N7: =IF(L7="","",L7+M7) | O7: Nein | P7: Nein | Q7: 2 | R7: 46143 | S7: =IF(OR(Q7="",R7=""),"",DATE(YEAR(R7)+Q7-1,12,31)) | T7: =IF(OR(N7="",Q7=""),"",IFERROR(N7/Q7,0)) | U7: =IF(T7="","",IFERROR(T7/12,0)) | V7: 6150 | W7: =IF(N7="","",IFERROR(MAX(0,N7-V7),0)) | X7: =IF(N7="","",IF(Q7=1,"Sofortabzug",IF(W7<=0,"Vollständig berücksichtigt","In Verteilung"))) | Y7: Aufteilung nach Rechnungspositionen dokumentieren | Z7: =IF(G7="","",IFERROR(VLOOKUP(G7,'Jahresübersicht'!$K$8:$L$15,2,FALSE),"Nicht zugeordnet"))
A8: EA-2026-007 | B8: Mehrfamilienhaus Beethovenstraße 31 | C8: Beethovenstraße 31 | D8: Düsseldorf | E8: Stefan Weber | F8: Kellerabdichtung gegen Feuchtigkeit | G8: Sonstiges | H8: Bauabdichtung Rhein GmbH | I8: BR-2026-154 | J8: 46156 | K8: 46169 | L8: 13235.29 | M8: 2514.71 | N8: =IF(L8="","",L8+M8) | O8: Nein | P8: Nein | Q8: 5 | R8: 46143 | S8: =IF(OR(Q8="",R8=""),"",DATE(YEAR(R8)+Q8-1,12,31)) | T8: =IF(OR(N8="",Q8=""),"",IFERROR(N8/Q8,0)) | U8: =IF(T8="","",IFERROR(T8/12,0)) | V8: 3150 | W8: =IF(N8="","",IFERROR(MAX(0,N8-V8),0)) | X8: =IF(N8="","",IF(Q8=1,"Sofortabzug",IF(W8<=0,"Vollständig berücksichtigt","In Verteilung"))) | Y8: Technische Unterlagen beifügen | Z8: =IF(G8="","",IFERROR(VLOOKUP(G8,'Jahresübersicht'!$K$8:$L$15,2,FALSE),"Nicht zugeordnet"))
A9: EA-2026-008 | B9: Wohnanlage Karl-Liebknecht-Straße 16 | C9: Karl-Liebknecht-Straße 16 | D9: Leipzig | E9: Claudia Fischer | F9: Treppenhausrenovierung mit Malerarbeiten | G9: Sonstiges | H9: Malerbetrieb König GmbH | I9: MK-2026-334 | J9: 46191 | K9: 46204 | L9: 7478.99 | M9: 1421.01 | N9: =IF(L9="","",L9+M9) | O9: Nein | P9: Nein | Q9: 3 | R9: 46204 | S9: =IF(OR(Q9="",R9=""),"",DATE(YEAR(R9)+Q9-1,12,31)) | T9: =IF(OR(N9="",Q9=""),"",IFERROR(N9/Q9,0)) | U9: =IF(T9="","",IFERROR(T9/12,0)) | V9: 2966.67 | W9: =IF(N9="","",IFERROR(MAX(0,N9-V9),0)) | X9: =IF(N9="","",IF(Q9=1,"Sofortabzug",IF(W9<=0,"Vollständig berücksichtigt","In Verteilung"))) | Y9: Beschluss der Eigentümergemeinschaft vorhanden | Z9: =IF(G9="","",IFERROR(VLOOKUP(G9,'Jahresübersicht'!$K$8:$L$15,2,FALSE),"Nicht zugeordnet"))
A10: EA-2026-009 | B10: Eigentumswohnung Hansastraße 5 | C10: Hansastraße 5 | D10: Dresden | E10: Markus Bauer | F10: Instandsetzung der Außenanlagen | G10: Außenanlagen | H10: Gartenbau Elbe GmbH | I10: GE-2026-79 | J10: 46212 | K10: 46224 | L10: 3092.44 | M10: 587.56 | N10: =IF(L10="","",L10+M10) | O10: Nein | P10: Ja | Q10: 1 | R10: 46204 | S10: =IF(OR(Q10="",R10=""),"",DATE(YEAR(R10)+Q10-1,12,31)) | T10: =IF(OR(N10="",Q10=""),"",IFERROR(N10/Q10,0)) | U10: =IF(T10="","",IFERROR(T10/12,0)) | V10: 3680 | W10: =IF(N10="","",IFERROR(MAX(0,N10-V10),0)) | X10: =IF(N10="","",IF(Q10=1,"Sofortabzug",IF(W10<=0,"Vollständig berücksichtigt","In Verteilung"))) | Y10: Sofortabzug vorbehaltlich Einzelfallprüfung | Z10: =IF(G10="","",IFERROR(VLOOKUP(G10,'Jahresübersicht'!$K$8:$L$15,2,FALSE),"Nicht zugeordnet"))
N11: =IF(L11="","",L11+M11) | S11: =IF(OR(Q11="",R11=""),"",DATE(YEAR(R11)+Q11-1,12,31)) | T11: =IF(OR(N11="",Q11=""),"",IFERROR(N11/Q11,0)) | U11: =IF(T11="","",IFERROR(T11/12,0)) | W11: =IF(N11="","",IFERROR(MAX(0,N11-V11),0)) | X11: =IF(N11="","",IF(Q11=1,"Sofortabzug",IF(W11<=0,"Vollständig berücksichtigt","In Verteilung"))) | Z11: =IF(G11="","",IFERROR(VLOOKUP(G11,'Jahresübersicht'!$K$8:$L$15,2,FALSE),"Nicht zugeordnet"))
N12: =IF(L12="","",L12+M12) | S12: =IF(OR(Q12="",R12=""),"",DATE(YEAR(R12)+Q12-1,12,31)) | T12: =IF(OR(N12="",Q12=""),"",IFERROR(N12/Q12,0)) | U12: =IF(T12="","",IFERROR(T12/12,0)) | W12: =IF(N12="","",IFERROR(MAX(0,N12-V12),0)) | X12: =IF(N12="","",IF(Q12=1,"Sofortabzug",IF(W12<=0,"Vollständig berücksichtigt","In Verteilung"))) | Z12: =IF(G12="","",IFERROR(VLOOKUP(G12,'Jahresübersicht'!$K$8:$L$15,2,FALSE),"Nicht zugeordnet"))
N13: =IF(L13="","",L13+M13) | S13: =IF(OR(Q13="",R13=""),"",DATE(YEAR(R13)+Q13-1,12,31)) | T13: =IF(OR(N13="",Q13=""),"",IFERROR(N13/Q13,0)) | U13: =IF(T13="","",IFERROR(T13/12,0)) | W13: =IF(N13="","",IFERROR(MAX(0,N13-V13),0)) | X13: =IF(N13="","",IF(Q13=1,"Sofortabzug",IF(W13<=0,"Vollständig berücksichtigt","In Verteilung"))) | Z13: =IF(G13="","",IFERROR(VLOOKUP(G13,'Jahresübersicht'!$K$8:$L$15,2,FALSE),"Nicht zugeordnet"))
N14: =IF(L14="","",L14+M14) | S14: =IF(OR(Q14="",R14=""),"",DATE(YEAR(R14)+Q14-1,12,31)) | T14: =IF(OR(N14="",Q14=""),"",IFERROR(N14/Q14,0)) | U14: =IF(T14="","",IFERROR(T14/12,0)) | W14: =IF(N14="","",IFERROR(MAX(0,N14-V14),0)) | X14: =IF(N14="","",IF(Q14=1,"Sofortabzug",IF(W14<=0,"Vollständig berücksichtigt","In Verteilung"))) | Z14: =IF(G14="","",IFERROR(VLOOKUP(G14,'Jahresübersicht'!$K$8:$L$15,2,FALSE),"Nicht zugeordnet"))
N15: =IF(L15="","",L15+M15) | S15: =IF(OR(Q15="",R15=""),"",DATE(YEAR(R15)+Q15-1,12,31)) | T15: =IF(OR(N15="",Q15=""),"",IFERROR(N15/Q15,0)) | U15: =IF(T15="","",IFERROR(T15/12,0)) | W15: =IF(N15="","",IFERROR(MAX(0,N15-V15),0)) | X15: =IF(N15="","",IF(Q15=1,"Sofortabzug",IF(W15<=0,"Vollständig berücksichtigt","In Verteilung"))) | Z15: =IF(G15="","",IFERROR(VLOOKUP(G15,'Jahresübersicht'!$K$8:$L$15,2,FALSE),"Nicht zugeordnet"))
N16: =IF(L16="","",L16+M16) | S16: =IF(OR(Q16="",R16=""),"",DATE(YEAR(R16)+Q16-1,12,31)) | T16: =IF(OR(N16="",Q16=""),"",IFERROR(N16/Q16,0)) | U16: =IF(T16="","",IFERROR(T16/12,0)) | W16: =IF(N16="","",IFERROR(MAX(0,N16-V16),0)) | X16: =IF(N16="","",IF(Q16=1,"Sofortabzug",IF(W16<=0,"Vollständig berücksichtigt","In Verteilung"))) | Z16: =IF(G16="","",IFERROR(VLOOKUP(G16,'Jahresübersicht'!$K$8:$L$15,2,FALSE),"Nicht zugeordnet"))
N17: =IF(L17="","",L17+M17) | S17: =IF(OR(Q17="",R17=""),"",DATE(YEAR(R17)+Q17-1,12,31)) | T17: =IF(OR(N17="",Q17=""),"",IFERROR(N17/Q17,0)) | U17: =IF(T17="","",IFERROR(T17/12,0)) | W17: =IF(N17="","",IFERROR(MAX(0,N17-V17),0)) | X17: =IF(N17="","",IF(Q17=1,"Sofortabzug",IF(W17<=0,"Vollständig berücksichtigt","In Verteilung"))) | Z17: =IF(G17="","",IFERROR(VLOOKUP(G17,'Jahresübersicht'!$K$8:$L$15,2,FALSE),"Nicht zugeordnet"))
N18: =IF(L18="","",L18+M18) | S18: =IF(OR(Q18="",R18=""),"",DATE(YEAR(R18)+Q18-1,12,31)) | T18: =IF(OR(N18="",Q18=""),"",IFERROR(N18/Q18,0)) | U18: =IF(T18="","",IFERROR(T18/12,0)) | W18: =IF(N18="","",IFERROR(MAX(0,N18-V18),0)) | X18: =IF(N18="","",IF(Q18=1,"Sofortabzug",IF(W18<=0,"Vollständig berücksichtigt","In Verteilung"))) | Z18: =IF(G18="","",IFERROR(VLOOKUP(G18,'Jahresübersicht'!$K$8:$L$15,2,FALSE),"Nicht zugeordnet"))
N19: =IF(L19="","",L19+M19) | S19: =IF(OR(Q19="",R19=""),"",DATE(YEAR(R19)+Q19-1,12,31)) | T19: =IF(OR(N19="",Q19=""),"",IFERROR(N19/Q19,0)) | U19: =IF(T19="","",IFERROR(T19/12,0)) | W19: =IF(N19="","",IFERROR(MAX(0,N19-V19),0)) | X19: =IF(N19="","",IF(Q19=1,"Sofortabzug",IF(W19<=0,"Vollständig berücksichtigt","In Verteilung"))) | Z19: =IF(G19="","",IFERROR(VLOOKUP(G19,'Jahresübersicht'!$K$8:$L$15,2,FALSE),"Nicht zugeordnet"))
N20: =IF(L20="","",L20+M20) | S20: =IF(OR(Q20="",R20=""),"",DATE(YEAR(R20)+Q20-1,12,31)) | T20: =IF(OR(N20="",Q20=""),"",IFERROR(N20/Q20,0)) | U20: =IF(T20="","",IFERROR(T20/12,0)) | W20: =IF(N20="","",IFERROR(MAX(0,N20-V20),0)) | X20: =IF(N20="","",IF(Q20=1,"Sofortabzug",IF(W20<=0,"Vollständig berücksichtigt","In Verteilung"))) | Z20: =IF(G20="","",IFERROR(VLOOKUP(G20,'Jahresübersicht'!$K$8:$L$15,2,FALSE),"Nicht zugeordnet"))
N21: =IF(L21="","",L21+M21) | S21: =IF(OR(Q21="",R21=""),"",DATE(YEAR(R21)+Q21-1,12,31)) | T21: =IF(OR(N21="",Q21=""),"",IFERROR(N21/Q21,0)) | U21: =IF(T21="","",IFERROR(T21/12,0)) | W21: =IF(N21="","",IFERROR(MAX(0,N21-V21),0)) | X21: =IF(N21="","",IF(Q21=1,"Sofortabzug",IF(W21<=0,"Vollständig berücksichtigt","In Verteilung"))) | Z21: =IF(G21="","",IFERROR(VLOOKUP(G21,'Jahresübersicht'!$K$8:$L$15,2,FALSE),"Nicht zugeordnet"))
N22: =IF(L22="","",L22+M22) | S22: =IF(OR(Q22="",R22=""),"",DATE(YEAR(R22)+Q22-1,12,31)) | T22: =IF(OR(N22="",Q22=""),"",IFERROR(N22/Q22,0)) | U22: =IF(T22="","",IFERROR(T22/12,0)) | W22: =IF(N22="","",IFERROR(MAX(0,N22-V22),0)) | X22: =IF(N22="","",IF(Q22=1,"Sofortabzug",IF(W22<=0,"Vollständig berücksichtigt","In Verteilung"))) | Z22: =IF(G22="","",IFERROR(VLOOKUP(G22,'Jahresübersicht'!$K$8:$L$15,2,FALSE),"Nicht zugeordnet"))
... N126: =IF(L126="","",L126+M126) | S126: =IF(OR(Q126="",R126=""),"",DATE(YEAR(R126)+Q126-1,12,31)) | T126: =IF(OR(N126="",Q126=""),"",IFERROR(N126/Q126,0)) | U126: =IF(T126="","",IFERROR(T126/12,0)) | W126: =IF(N126="","",IFERROR(MAX(0,N126-V126),0)) | X126: =IF(N126="","",IF(Q126=1,"Sofortabzug",IF(W126<=0,"Vollständig berücksichtigt","In Verteilung"))) | Z126: =IF(G126="","",IFERROR(VLOOKUP(G126,'Jahresübersicht'!$K$8:$L$15,2,FALSE),"Nicht zugeordnet"))

Sheet Jahresübersicht
A1: Jahresübersicht – Erhaltungsaufwand und steuerliche Verteilung
A3: Kennzahl | B3: Wert | D3: Kennzahl | E3: Wert
A4: Gesamtaufwand brutto | B4: =SUM('Erhaltungsaufwand'!$N$2:$N$126) | D4: Anzahl Maßnahmen | E4: =COUNTIF('Erhaltungsaufwand'!$A$2:$A$126,"<>")
A5: Durchschnittlicher Aufwand je Maßnahme | B5: =IFERROR(AVERAGE('Erhaltungsaufwand'!$N$2:$N$10),0) | D5: Offener Restbetrag | E5: =SUM('Erhaltungsaufwand'!$W$2:$W$126)
A7: Jahr | B7: Gesamtaufwand brutto (€) | C7: Sofort abzugsfähig (€) | D7: Verteilte Aufwendungen (€) | E7: Geplanter Abzug im Jahr (€) | F7: Bereits berücksichtigt (€) | G7: Offener Restbetrag (€) | H7: Anzahl Maßnahmen | I7: Anteil am Gesamtaufwand (%) | K7: Kategorie | L7: Steuerlicher Prüfhinweis
A8: 2026 | B8: =SUMIFS('Erhaltungsaufwand'!$N$2:$N$126,'Erhaltungsaufwand'!$K$2:$K$126,">="&DATE($A8,1,1),'Erhaltungsaufwand'!$K$2:$K$126,"<="&DATE($A8,12,31)) | C8: =SUMIFS('Erhaltungsaufwand'!$N$2:$N$126,'Erhaltungsaufwand'!$Q$2:$Q$126,1,'Erhaltungsaufwand'!$K$2:$K$126,">="&DATE($A8,1,1),'Erhaltungsaufwand'!$K$2:$K$126,"<="&DATE($A8,12,31)) | D8: =SUMIFS('Erhaltungsaufwand'!$T$2:$T$126,'Erhaltungsaufwand'!$Q$2:$Q$126,">1",'Erhaltungsaufwand'!$R$2:$R$126,"<="&DATE($A8,12,31),'Erhaltungsaufwand'!$S$2:$S$126,">="&DATE($A8,1,1)) | E8: =C8+D8 | F8: =SUMIFS('Erhaltungsaufwand'!$V$2:$V$126,'Erhaltungsaufwand'!$R$2:$R$126,"<="&DATE($A8,12,31),'Erhaltungsaufwand'!$S$2:$S$126,">="&DATE($A8,1,1)) | G8: =SUMIFS('Erhaltungsaufwand'!$W$2:$W$126,'Erhaltungsaufwand'!$R$2:$R$126,"<="&DATE($A8,12,31),'Erhaltungsaufwand'!$S$2:$S$126,">="&DATE($A8,1,1)) | H8: =COUNTIFS('Erhaltungsaufwand'!$R$2:$R$126,"<="&DATE($A8,12,31),'Erhaltungsaufwand'!$S$2:$S$126,">="&DATE($A8,1,1)) | I8: =IFERROR(B8/SUM($B$8:$B$101),0) | K8: Dach | L8: Erhaltungsaufwand von Herstellungskosten abgrenzen
A9: 2027 | B9: =SUMIFS('Erhaltungsaufwand'!$N$2:$N$126,'Erhaltungsaufwand'!$K$2:$K$126,">="&DATE($A9,1,1),'Erhaltungsaufwand'!$K$2:$K$126,"<="&DATE($A9,12,31)) | C9: =SUMIFS('Erhaltungsaufwand'!$N$2:$N$126,'Erhaltungsaufwand'!$Q$2:$Q$126,1,'Erhaltungsaufwand'!$K$2:$K$126,">="&DATE($A9,1,1),'Erhaltungsaufwand'!$K$2:$K$126,"<="&DATE($A9,12,31)) | D9: =SUMIFS('Erhaltungsaufwand'!$T$2:$T$126,'Erhaltungsaufwand'!$Q$2:$Q$126,">1",'Erhaltungsaufwand'!$R$2:$R$126,"<="&DATE($A9,12,31),'Erhaltungsaufwand'!$S$2:$S$126,">="&DATE($A9,1,1)) | E9: =C9+D9 | F9: =SUMIFS('Erhaltungsaufwand'!$V$2:$V$126,'Erhaltungsaufwand'!$R$2:$R$126,"<="&DATE($A9,12,31),'Erhaltungsaufwand'!$S$2:$S$126,">="&DATE($A9,1,1)) | G9: =SUMIFS('Erhaltungsaufwand'!$W$2:$W$126,'Erhaltungsaufwand'!$R$2:$R$126,"<="&DATE($A9,12,31),'Erhaltungsaufwand'!$S$2:$S$126,">="&DATE($A9,1,1)) | H9: =COUNTIFS('Erhaltungsaufwand'!$R$2:$R$126,"<="&DATE($A9,12,31),'Erhaltungsaufwand'!$S$2:$S$126,">="&DATE($A9,1,1)) | I9: =IFERROR(B9/SUM($B$8:$B$101),0) | K9: Fassade | L9: Rechnungspositionen und Umfang dokumentieren
A10: 2028 | B10: =SUMIFS('Erhaltungsaufwand'!$N$2:$N$126,'Erhaltungsaufwand'!$K$2:$K$126,">="&DATE($A10,1,1),'Erhaltungsaufwand'!$K$2:$K$126,"<="&DATE($A10,12,31)) | C10: =SUMIFS('Erhaltungsaufwand'!$N$2:$N$126,'Erhaltungsaufwand'!$Q$2:$Q$126,1,'Erhaltungsaufwand'!$K$2:$K$126,">="&DATE($A10,1,1),'Erhaltungsaufwand'!$K$2:$K$126,"<="&DATE($A10,12,31)) | D10: =SUMIFS('Erhaltungsaufwand'!$T$2:$T$126,'Erhaltungsaufwand'!$Q$2:$Q$126,">1",'Erhaltungsaufwand'!$R$2:$R$126,"<="&DATE($A10,12,31),'Erhaltungsaufwand'!$S$2:$S$126,">="&DATE($A10,1,1)) | E10: =C10+D10 | F10: =SUMIFS('Erhaltungsaufwand'!$V$2:$V$126,'Erhaltungsaufwand'!$R$2:$R$126,"<="&DATE($A10,12,31),'Erhaltungsaufwand'!$S$2:$S$126,">="&DATE($A10,1,1)) | G10: =SUMIFS('Erhaltungsaufwand'!$W$2:$W$126,'Erhaltungsaufwand'!$R$2:$R$126,"<="&DATE($A10,12,31),'Erhaltungsaufwand'!$S$2:$S$126,">="&DATE($A10,1,1)) | H10: =COUNTIFS('Erhaltungsaufwand'!$R$2:$R$126,"<="&DATE($A10,12,31),'Erhaltungsaufwand'!$S$2:$S$126,">="&DATE($A10,1,1)) | I10: =IFERROR(B10/SUM($B$8:$B$101),0) | K10: Heizung | L10: Instandsetzung und Modernisierung getrennt prüfen
A11: 2029 | B11: =SUMIFS('Erhaltungsaufwand'!$N$2:$N$126,'Erhaltungsaufwand'!$K$2:$K$126,">="&DATE($A11,1,1),'Erhaltungsaufwand'!$K$2:$K$126,"<="&DATE($A11,12,31)) | C11: =SUMIFS('Erhaltungsaufwand'!$N$2:$N$126,'Erhaltungsaufwand'!$Q$2:$Q$126,1,'Erhaltungsaufwand'!$K$2:$K$126,">="&DATE($A11,1,1),'Erhaltungsaufwand'!$K$2:$K$126,"<="&DATE($A11,12,31)) | D11: =SUMIFS('Erhaltungsaufwand'!$T$2:$T$126,'Erhaltungsaufwand'!$Q$2:$Q$126,">1",'Erhaltungsaufwand'!$R$2:$R$126,"<="&DATE($A11,12,31),'Erhaltungsaufwand'!$S$2:$S$126,">="&DATE($A11,1,1)) | E11: =C11+D11 | F11: =SUMIFS('Erhaltungsaufwand'!$V$2:$V$126,'Erhaltungsaufwand'!$R$2:$R$126,"<="&DATE($A11,12,31),'Erhaltungsaufwand'!$S$2:$S$126,">="&DATE($A11,1,1)) | G11: =SUMIFS('Erhaltungsaufwand'!$W$2:$W$126,'Erhaltungsaufwand'!$R$2:$R$126,"<="&DATE($A11,12,31),'Erhaltungsaufwand'!$S$2:$S$126,">="&DATE($A11,1,1)) | H11: =COUNTIFS('Erhaltungsaufwand'!$R$2:$R$126,"<="&DATE($A11,12,31),'Erhaltungsaufwand'!$S$2:$S$126,">="&DATE($A11,1,1)) | I11: =IFERROR(B11/SUM($B$8:$B$101),0) | K11: Fenster | L11: Einzelfallbezogene steuerliche Zuordnung prüfen
A12: 2030 | B12: =SUMIFS('Erhaltungsaufwand'!$N$2:$N$126,'Erhaltungsaufwand'!$K$2:$K$126,">="&DATE($A12,1,1),'Erhaltungsaufwand'!$K$2:$K$126,"<="&DATE($A12,12,31)) | C12: =SUMIFS('Erhaltungsaufwand'!$N$2:$N$126,'Erhaltungsaufwand'!$Q$2:$Q$126,1,'Erhaltungsaufwand'!$K$2:$K$126,">="&DATE($A12,1,1),'Erhaltungsaufwand'!$K$2:$K$126,"<="&DATE($A12,12,31)) | D12: =SUMIFS('Erhaltungsaufwand'!$T$2:$T$126,'Erhaltungsaufwand'!$Q$2:$Q$126,">1",'Erhaltungsaufwand'!$R$2:$R$126,"<="&DATE($A12,12,31),'Erhaltungsaufwand'!$S$2:$S$126,">="&DATE($A12,1,1)) | E12: =C12+D12 | F12: =SUMIFS('Erhaltungsaufwand'!$V$2:$V$126,'Erhaltungsaufwand'!$R$2:$R$126,"<="&DATE($A12,12,31),'Erhaltungsaufwand'!$S$2:$S$126,">="&DATE($A12,1,1)) | G12: =SUMIFS('Erhaltungsaufwand'!$W$2:$W$126,'Erhaltungsaufwand'!$R$2:$R$126,"<="&DATE($A12,12,31),'Erhaltungsaufwand'!$S$2:$S$126,">="&DATE($A12,1,1)) | H12: =COUNTIFS('Erhaltungsaufwand'!$R$2:$R$126,"<="&DATE($A12,12,31),'Erhaltungsaufwand'!$S$2:$S$126,">="&DATE($A12,1,1)) | I12: =IFERROR(B12/SUM($B$8:$B$101),0) | K12: Sanitär | L12: Reparatur und grundlegende Erneuerung abgrenzen
A13: 2031 | B13: =SUMIFS('Erhaltungsaufwand'!$N$2:$N$126,'Erhaltungsaufwand'!$K$2:$K$126,">="&DATE($A13,1,1),'Erhaltungsaufwand'!$K$2:$K$126,"<="&DATE($A13,12,31)) | C13: =SUMIFS('Erhaltungsaufwand'!$N$2:$N$126,'Erhaltungsaufwand'!$Q$2:$Q$126,1,'Erhaltungsaufwand'!$K$2:$K$126,">="&DATE($A13,1,1),'Erhaltungsaufwand'!$K$2:$K$126,"<="&DATE($A13,12,31)) | D13: =SUMIFS('Erhaltungsaufwand'!$T$2:$T$126,'Erhaltungsaufwand'!$Q$2:$Q$126,">1",'Erhaltungsaufwand'!$R$2:$R$126,"<="&DATE($A13,12,31),'Erhaltungsaufwand'!$S$2:$S$126,">="&DATE($A13,1,1)) | E13: =C13+D13 | F13: =SUMIFS('Erhaltungsaufwand'!$V$2:$V$126,'Erhaltungsaufwand'!$R$2:$R$126,"<="&DATE($A13,12,31),'Erhaltungsaufwand'!$S$2:$S$126,">="&DATE($A13,1,1)) | G13: =SUMIFS('Erhaltungsaufwand'!$W$2:$W$126,'Erhaltungsaufwand'!$R$2:$R$126,"<="&DATE($A13,12,31),'Erhaltungsaufwand'!$S$2:$S$126,">="&DATE($A13,1,1)) | H13: =COUNTIFS('Erhaltungsaufwand'!$R$2:$R$126,"<="&DATE($A13,12,31),'Erhaltungsaufwand'!$S$2:$S$126,">="&DATE($A13,1,1)) | I13: =IFERROR(B13/SUM($B$8:$B$101),0) | K13: Elektro | L13: Technische Unterlagen und Rechnungen aufbewahren
A14: 2032 | B14: =SUMIFS('Erhaltungsaufwand'!$N$2:$N$126,'Erhaltungsaufwand'!$K$2:$K$126,">="&DATE($A14,1,1),'Erhaltungsaufwand'!$K$2:$K$126,"<="&DATE($A14,12,31)) | C14: =SUMIFS('Erhaltungsaufwand'!$N$2:$N$126,'Erhaltungsaufwand'!$Q$2:$Q$126,1,'Erhaltungsaufwand'!$K$2:$K$126,">="&DATE($A14,1,1),'Erhaltungsaufwand'!$K$2:$K$126,"<="&DATE($A14,12,31)) | D14: =SUMIFS('Erhaltungsaufwand'!$T$2:$T$126,'Erhaltungsaufwand'!$Q$2:$Q$126,">1",'Erhaltungsaufwand'!$R$2:$R$126,"<="&DATE($A14,12,31),'Erhaltungsaufwand'!$S$2:$S$126,">="&DATE($A14,1,1)) | E14: =C14+D14 | F14: =SUMIFS('Erhaltungsaufwand'!$V$2:$V$126,'Erhaltungsaufwand'!$R$2:$R$126,"<="&DATE($A14,12,31),'Erhaltungsaufwand'!$S$2:$S$126,">="&DATE($A14,1,1)) | G14: =SUMIFS('Erhaltungsaufwand'!$W$2:$W$126,'Erhaltungsaufwand'!$R$2:$R$126,"<="&DATE($A14,12,31),'Erhaltungsaufwand'!$S$2:$S$126,">="&DATE($A14,1,1)) | H14: =COUNTIFS('Erhaltungsaufwand'!$R$2:$R$126,"<="&DATE($A14,12,31),'Erhaltungsaufwand'!$S$2:$S$126,">="&DATE($A14,1,1)) | I14: =IFERROR(B14/SUM($B$8:$B$101),0) | K14: Außenanlagen | L14: Mietrechtliche Umlage gesondert beurteilen
A15: 2033 | B15: =SUMIFS('Erhaltungsaufwand'!$N$2:$N$126,'Erhaltungsaufwand'!$K$2:$K$126,">="&DATE($A15,1,1),'Erhaltungsaufwand'!$K$2:$K$126,"<="&DATE($A15,12,31)) | C15: =SUMIFS('Erhaltungsaufwand'!$N$2:$N$126,'Erhaltungsaufwand'!$Q$2:$Q$126,1,'Erhaltungsaufwand'!$K$2:$K$126,">="&DATE($A15,1,1),'Erhaltungsaufwand'!$K$2:$K$126,"<="&DATE($A15,12,31)) | D15: =SUMIFS('Erhaltungsaufwand'!$T$2:$T$126,'Erhaltungsaufwand'!$Q$2:$Q$126,">1",'Erhaltungsaufwand'!$R$2:$R$126,"<="&DATE($A15,12,31),'Erhaltungsaufwand'!$S$2:$S$126,">="&DATE($A15,1,1)) | E15: =C15+D15 | F15: =SUMIFS('Erhaltungsaufwand'!$V$2:$V$126,'Erhaltungsaufwand'!$R$2:$R$126,"<="&DATE($A15,12,31),'Erhaltungsaufwand'!$S$2:$S$126,">="&DATE($A15,1,1)) | G15: =SUMIFS('Erhaltungsaufwand'!$W$2:$W$126,'Erhaltungsaufwand'!$R$2:$R$126,"<="&DATE($A15,12,31),'Erhaltungsaufwand'!$S$2:$S$126,">="&DATE($A15,1,1)) | H15: =COUNTIFS('Erhaltungsaufwand'!$R$2:$R$126,"<="&DATE($A15,12,31),'Erhaltungsaufwand'!$S$2:$S$126,">="&DATE($A15,1,1)) | I15: =IFERROR(B15/SUM($B$8:$B$101),0) | K15: Sonstiges | L15: Steuerliche Einordnung mit Beratung abstimmen
A16: 2034 | B16: =SUMIFS('Erhaltungsaufwand'!$N$2:$N$126,'Erhaltungsaufwand'!$K$2:$K$126,">="&DATE($A16,1,1),'Erhaltungsaufwand'!$K$2:$K$126,"<="&DATE($A16,12,31)) | C16: =SUMIFS('Erhaltungsaufwand'!$N$2:$N$126,'Erhaltungsaufwand'!$Q$2:$Q$126,1,'Erhaltungsaufwand'!$K$2:$K$126,">="&DATE($A16,1,1),'Erhaltungsaufwand'!$K$2:$K$126,"<="&DATE($A16,12,31)) | D16: =SUMIFS('Erhaltungsaufwand'!$T$2:$T$126,'Erhaltungsaufwand'!$Q$2:$Q$126,">1",'Erhaltungsaufwand'!$R$2:$R$126,"<="&DATE($A16,12,31),'Erhaltungsaufwand'!$S$2:$S$126,">="&DATE($A16,1,1)) | E16: =C16+D16 | F16: =SUMIFS('Erhaltungsaufwand'!$V$2:$V$126,'Erhaltungsaufwand'!$R$2:$R$126,"<="&DATE($A16,12,31),'Erhaltungsaufwand'!$S$2:$S$126,">="&DATE($A16,1,1)) | G16: =SUMIFS('Erhaltungsaufwand'!$W$2:$W$126,'Erhaltungsaufwand'!$R$2:$R$126,"<="&DATE($A16,12,31),'Erhaltungsaufwand'!$S$2:$S$126,">="&DATE($A16,1,1)) | H16: =COUNTIFS('Erhaltungsaufwand'!$R$2:$R$126,"<="&DATE($A16,12,31),'Erhaltungsaufwand'!$S$2:$S$126,">="&DATE($A16,1,1)) | I16: =IFERROR(B16/SUM($B$8:$B$101),0)
A17: 2035 | B17: =SUMIFS('Erhaltungsaufwand'!$N$2:$N$126,'Erhaltungsaufwand'!$K$2:$K$126,">="&DATE($A17,1,1),'Erhaltungsaufwand'!$K$2:$K$126,"<="&DATE($A17,12,31)) | C17: =SUMIFS('Erhaltungsaufwand'!$N$2:$N$126,'Erhaltungsaufwand'!$Q$2:$Q$126,1,'Erhaltungsaufwand'!$K$2:$K$126,">="&DATE($A17,1,1),'Erhaltungsaufwand'!$K$2:$K$126,"<="&DATE($A17,12,31)) | D17: =SUMIFS('Erhaltungsaufwand'!$T$2:$T$126,'Erhaltungsaufwand'!$Q$2:$Q$126,">1",'Erhaltungsaufwand'!$R$2:$R$126,"<="&DATE($A17,12,31),'Erhaltungsaufwand'!$S$2:$S$126,">="&DATE($A17,1,1)) | E17: =C17+D17 | F17: =SUMIFS('Erhaltungsaufwand'!$V$2:$V$126,'Erhaltungsaufwand'!$R$2:$R$126,"<="&DATE($A17,12,31),'Erhaltungsaufwand'!$S$2:$S$126,">="&DATE($A17,1,1)) | G17: =SUMIFS('Erhaltungsaufwand'!$W$2:$W$126,'Erhaltungsaufwand'!$R$2:$R$126,"<="&DATE($A17,12,31),'Erhaltungsaufwand'!$S$2:$S$126,">="&DATE($A17,1,1)) | H17: =COUNTIFS('Erhaltungsaufwand'!$R$2:$R$126,"<="&DATE($A17,12,31),'Erhaltungsaufwand'!$S$2:$S$126,">="&DATE($A17,1,1)) | I17: =IFERROR(B17/SUM($B$8:$B$101),0)
A18: 2036 | B18: =SUMIFS('Erhaltungsaufwand'!$N$2:$N$126,'Erhaltungsaufwand'!$K$2:$K$126,">="&DATE($A18,1,1),'Erhaltungsaufwand'!$K$2:$K$126,"<="&DATE($A18,12,31)) | C18: =SUMIFS('Erhaltungsaufwand'!$N$2:$N$126,'Erhaltungsaufwand'!$Q$2:$Q$126,1,'Erhaltungsaufwand'!$K$2:$K$126,">="&DATE($A18,1,1),'Erhaltungsaufwand'!$K$2:$K$126,"<="&DATE($A18,12,31)) | D18: =SUMIFS('Erhaltungsaufwand'!$T$2:$T$126,'Erhaltungsaufwand'!$Q$2:$Q$126,">1",'Erhaltungsaufwand'!$R$2:$R$126,"<="&DATE($A18,12,31),'Erhaltungsaufwand'!$S$2:$S$126,">="&DATE($A18,1,1)) | E18: =C18+D18 | F18: =SUMIFS('Erhaltungsaufwand'!$V$2:$V$126,'Erhaltungsaufwand'!$R$2:$R$126,"<="&DATE($A18,12,31),'Erhaltungsaufwand'!$S$2:$S$126,">="&DATE($A18,1,1)) | G18: =SUMIFS('Erhaltungsaufwand'!$W$2:$W$126,'Erhaltungsaufwand'!$R$2:$R$126,"<="&DATE($A18,12,31),'Erhaltungsaufwand'!$S$2:$S$126,">="&DATE($A18,1,1)) | H18: =COUNTIFS('Erhaltungsaufwand'!$R$2:$R$126,"<="&DATE($A18,12,31),'Erhaltungsaufwand'!$S$2:$S$126,">="&DATE($A18,1,1)) | I18: =IFERROR(B18/SUM($B$8:$B$101),0)
A19: 2037 | B19: =SUMIFS('Erhaltungsaufwand'!$N$2:$N$126,'Erhaltungsaufwand'!$K$2:$K$126,">="&DATE($A19,1,1),'Erhaltungsaufwand'!$K$2:$K$126,"<="&DATE($A19,12,31)) | C19: =SUMIFS('Erhaltungsaufwand'!$N$2:$N$126,'Erhaltungsaufwand'!$Q$2:$Q$126,1,'Erhaltungsaufwand'!$K$2:$K$126,">="&DATE($A19,1,1),'Erhaltungsaufwand'!$K$2:$K$126,"<="&DATE($A19,12,31)) | D19: =SUMIFS('Erhaltungsaufwand'!$T$2:$T$126,'Erhaltungsaufwand'!$Q$2:$Q$126,">1",'Erhaltungsaufwand'!$R$2:$R$126,"<="&DATE($A19,12,31),'Erhaltungsaufwand'!$S$2:$S$126,">="&DATE($A19,1,1)) | E19: =C19+D19 | F19: =SUMIFS('Erhaltungsaufwand'!$V$2:$V$126,'Erhaltungsaufwand'!$R$2:$R$126,"<="&DATE($A19,12,31),'Erhaltungsaufwand'!$S$2:$S$126,">="&DATE($A19,1,1)) | G19: =SUMIFS('Erhaltungsaufwand'!$W$2:$W$126,'Erhaltungsaufwand'!$R$2:$R$126,"<="&DATE($A19,12,31),'Erhaltungsaufwand'!$S$2:$S$126,">="&DATE($A19,1,1)) | H19: =COUNTIFS('Erhaltungsaufwand'!$R$2:$R$126,"<="&DATE($A19,12,31),'Erhaltungsaufwand'!$S$2:$S$126,">="&DATE($A19,1,1)) | I19: =IFERROR(B19/SUM($B$8:$B$101),0)
A20: 2038 | B20: =SUMIFS('Erhaltungsaufwand'!$N$2:$N$126,'Erhaltungsaufwand'!$K$2:$K$126,">="&DATE($A20,1,1),'Erhaltungsaufwand'!$K$2:$K$126,"<="&DATE($A20,12,31)) | C20: =SUMIFS('Erhaltungsaufwand'!$N$2:$N$126,'Erhaltungsaufwand'!$Q$2:$Q$126,1,'Erhaltungsaufwand'!$K$2:$K$126,">="&DATE($A20,1,1),'Erhaltungsaufwand'!$K$2:$K$126,"<="&DATE($A20,12,31)) | D20: =SUMIFS('Erhaltungsaufwand'!$T$2:$T$126,'Erhaltungsaufwand'!$Q$2:$Q$126,">1",'Erhaltungsaufwand'!$R$2:$R$126,"<="&DATE($A20,12,31),'Erhaltungsaufwand'!$S$2:$S$126,">="&DATE($A20,1,1)) | E20: =C20+D20 | F20: =SUMIFS('Erhaltungsaufwand'!$V$2:$V$126,'Erhaltungsaufwand'!$R$2:$R$126,"<="&DATE($A20,12,31),'Erhaltungsaufwand'!$S$2:$S$126,">="&DATE($A20,1,1)) | G20: =SUMIFS('Erhaltungsaufwand'!$W$2:$W$126,'Erhaltungsaufwand'!$R$2:$R$126,"<="&DATE($A20,12,31),'Erhaltungsaufwand'!$S$2:$S$126,">="&DATE($A20,1,1)) | H20: =COUNTIFS('Erhaltungsaufwand'!$R$2:$R$126,"<="&DATE($A20,12,31),'Erhaltungsaufwand'!$S$2:$S$126,">="&DATE($A20,1,1)) | I20: =IFERROR(B20/SUM($B$8:$B$101),0)
A21: 2039 | B21: =SUMIFS('Erhaltungsaufwand'!$N$2:$N$126,'Erhaltungsaufwand'!$K$2:$K$126,">="&DATE($A21,1,1),'Erhaltungsaufwand'!$K$2:$K$126,"<="&DATE($A21,12,31)) | C21: =SUMIFS('Erhaltungsaufwand'!$N$2:$N$126,'Erhaltungsaufwand'!$Q$2:$Q$126,1,'Erhaltungsaufwand'!$K$2:$K$126,">="&DATE($A21,1,1),'Erhaltungsaufwand'!$K$2:$K$126,"<="&DATE($A21,12,31)) | D21: =SUMIFS('Erhaltungsaufwand'!$T$2:$T$126,'Erhaltungsaufwand'!$Q$2:$Q$126,">1",'Erhaltungsaufwand'!$R$2:$R$126,"<="&DATE($A21,12,31),'Erhaltungsaufwand'!$S$2:$S$126,">="&DATE($A21,1,1)) | E21: =C21+D21 | F21: =SUMIFS('Erhaltungsaufwand'!$V$2:$V$126,'Erhaltungsaufwand'!$R$2:$R$126,"<="&DATE($A21,12,31),'Erhaltungsaufwand'!$S$2:$S$126,">="&DATE($A21,1,1)) | G21: =SUMIFS('Erhaltungsaufwand'!$W$2:$W$126,'Erhaltungsaufwand'!$R$2:$R$126,"<="&DATE($A21,12,31),'Erhaltungsaufwand'!$S$2:$S$126,">="&DATE($A21,1,1)) | H21: =COUNTIFS('Erhaltungsaufwand'!$R$2:$R$126,"<="&DATE($A21,12,31),'Erhaltungsaufwand'!$S$2:$S$126,">="&DATE($A21,1,1)) | I21: =IFERROR(B21/SUM($B$8:$B$101),0)
A22: 2040 | B22: =SUMIFS('Erhaltungsaufwand'!$N$2:$N$126,'Erhaltungsaufwand'!$K$2:$K$126,">="&DATE($A22,1,1),'Erhaltungsaufwand'!$K$2:$K$126,"<="&DATE($A22,12,31)) | C22: =SUMIFS('Erhaltungsaufwand'!$N$2:$N$126,'Erhaltungsaufwand'!$Q$2:$Q$126,1,'Erhaltungsaufwand'!$K$2:$K$126,">="&DATE($A22,1,1),'Erhaltungsaufwand'!$K$2:$K$126,"<="&DATE($A22,12,31)) | D22: =SUMIFS('Erhaltungsaufwand'!$T$2:$T$126,'Erhaltungsaufwand'!$Q$2:$Q$126,">1",'Erhaltungsaufwand'!$R$2:$R$126,"<="&DATE($A22,12,31),'Erhaltungsaufwand'!$S$2:$S$126,">="&DATE($A22,1,1)) | E22: =C22+D22 | F22: =SUMIFS('Erhaltungsaufwand'!$V$2:$V$126,'Erhaltungsaufwand'!$R$2:$R$126,"<="&DATE($A22,12,31),'Erhaltungsaufwand'!$S$2:$S$126,">="&DATE($A22,1,1)) | G22: =SUMIFS('Erhaltungsaufwand'!$W$2:$W$126,'Erhaltungsaufwand'!$R$2:$R$126,"<="&DATE($A22,12,31),'Erhaltungsaufwand'!$S$2:$S$126,">="&DATE($A22,1,1)) | H22: =COUNTIFS('Erhaltungsaufwand'!$R$2:$R$126,"<="&DATE($A22,12,31),'Erhaltungsaufwand'!$S$2:$S$126,">="&DATE($A22,1,1)) | I22: =IFERROR(B22/SUM($B$8:$B$101),0)
A23: 2041 | B23: =SUMIFS('Erhaltungsaufwand'!$N$2:$N$126,'Erhaltungsaufwand'!$K$2:$K$126,">="&DATE($A23,1,1),'Erhaltungsaufwand'!$K$2:$K$126,"<="&DATE($A23,12,31)) | C23: =SUMIFS('Erhaltungsaufwand'!$N$2:$N$126,'Erhaltungsaufwand'!$Q$2:$Q$126,1,'Erhaltungsaufwand'!$K$2:$K$126,">="&DATE($A23,1,1),'Erhaltungsaufwand'!$K$2:$K$126,"<="&DATE($A23,12,31)) | D23: =SUMIFS('Erhaltungsaufwand'!$T$2:$T$126,'Erhaltungsaufwand'!$Q$2:$Q$126,">1",'Erhaltungsaufwand'!$R$2:$R$126,"<="&DATE($A23,12,31),'Erhaltungsaufwand'!$S$2:$S$126,">="&DATE($A23,1,1)) | E23: =C23+D23 | F23: =SUMIFS('Erhaltungsaufwand'!$V$2:$V$126,'Erhaltungsaufwand'!$R$2:$R$126,"<="&DATE($A23,12,31),'Erhaltungsaufwand'!$S$2:$S$126,">="&DATE($A23,1,1)) | G23: =SUMIFS('Erhaltungsaufwand'!$W$2:$W$126,'Erhaltungsaufwand'!$R$2:$R$126,"<="&DATE($A23,12,31),'Erhaltungsaufwand'!$S$2:$S$126,">="&DATE($A23,1,1)) | H23: =COUNTIFS('Erhaltungsaufwand'!$R$2:$R$126,"<="&DATE($A23,12,31),'Erhaltungsaufwand'!$S$2:$S$126,">="&DATE($A23,1,1)) | I23: =IFERROR(B23/SUM($B$8:$B$101),0)
A24: 2042 | B24: =SUMIFS('Erhaltungsaufwand'!$N$2:$N$126,'Erhaltungsaufwand'!$K$2:$K$126,">="&DATE($A24,1,1),'Erhaltungsaufwand'!$K$2:$K$126,"<="&DATE($A24,12,31)) | C24: =SUMIFS('Erhaltungsaufwand'!$N$2:$N$126,'Erhaltungsaufwand'!$Q$2:$Q$126,1,'Erhaltungsaufwand'!$K$2:$K$126,">="&DATE($A24,1,1),'Erhaltungsaufwand'!$K$2:$K$126,"<="&DATE($A24,12,31)) | D24: =SUMIFS('Erhaltungsaufwand'!$T$2:$T$126,'Erhaltungsaufwand'!$Q$2:$Q$126,">1",'Erhaltungsaufwand'!$R$2:$R$126,"<="&DATE($A24,12,31),'Erhaltungsaufwand'!$S$2:$S$126,">="&DATE($A24,1,1)) | E24: =C24+D24 | F24: =SUMIFS('Erhaltungsaufwand'!$V$2:$V$126,'Erhaltungsaufwand'!$R$2:$R$126,"<="&DATE($A24,12,31),'Erhaltungsaufwand'!$S$2:$S$126,">="&DATE($A24,1,1)) | G24: =SUMIFS('Erhaltungsaufwand'!$W$2:$W$126,'Erhaltungsaufwand'!$R$2:$R$126,"<="&DATE($A24,12,31),'Erhaltungsaufwand'!$S$2:$S$126,">="&DATE($A24,1,1)) | H24: =COUNTIFS('Erhaltungsaufwand'!$R$2:$R$126,"<="&DATE($A24,12,31),'Erhaltungsaufwand'!$S$2:$S$126,">="&DATE($A24,1,1)) | I24: =IFERROR(B24/SUM($B$8:$B$101),0)
A25: 2043 | B25: =SUMIFS('Erhaltungsaufwand'!$N$2:$N$126,'Erhaltungsaufwand'!$K$2:$K$126,">="&DATE($A25,1,1),'Erhaltungsaufwand'!$K$2:$K$126,"<="&DATE($A25,12,31)) | C25: =SUMIFS('Erhaltungsaufwand'!$N$2:$N$126,'Erhaltungsaufwand'!$Q$2:$Q$126,1,'Erhaltungsaufwand'!$K$2:$K$126,">="&DATE($A25,1,1),'Erhaltungsaufwand'!$K$2:$K$126,"<="&DATE($A25,12,31)) | D25: =SUMIFS('Erhaltungsaufwand'!$T$2:$T$126,'Erhaltungsaufwand'!$Q$2:$Q$126,">1",'Erhaltungsaufwand'!$R$2:$R$126,"<="&DATE($A25,12,31),'Erhaltungsaufwand'!$S$2:$S$126,">="&DATE($A25,1,1)) | E25: =C25+D25 | F25: =SUMIFS('Erhaltungsaufwand'!$V$2:$V$126,'Erhaltungsaufwand'!$R$2:$R$126,"<="&DATE($A25,12,31),'Erhaltungsaufwand'!$S$2:$S$126,">="&DATE($A25,1,1)) | G25: =SUMIFS('Erhaltungsaufwand'!$W$2:$W$126,'Erhaltungsaufwand'!$R$2:$R$126,"<="&DATE($A25,12,31),'Erhaltungsaufwand'!$S$2:$S$126,">="&DATE($A25,1,1)) | H25: =COUNTIFS('Erhaltungsaufwand'!$R$2:$R$126,"<="&DATE($A25,12,31),'Erhaltungsaufwand'!$S$2:$S$126,">="&DATE($A25,1,1)) | I25: =IFERROR(B25/SUM($B$8:$B$101),0)
A26: 2044 | B26: =SUMIFS('Erhaltungsaufwand'!$N$2:$N$126,'Erhaltungsaufwand'!$K$2:$K$126,">="&DATE($A26,1,1),'Erhaltungsaufwand'!$K$2:$K$126,"<="&DATE($A26,12,31)) | C26: =SUMIFS('Erhaltungsaufwand'!$N$2:$N$126,'Erhaltungsaufwand'!$Q$2:$Q$126,1,'Erhaltungsaufwand'!$K$2:$K$126,">="&DATE($A26,1,1),'Erhaltungsaufwand'!$K$2:$K$126,"<="&DATE($A26,12,31)) | D26: =SUMIFS('Erhaltungsaufwand'!$T$2:$T$126,'Erhaltungsaufwand'!$Q$2:$Q$126,">1",'Erhaltungsaufwand'!$R$2:$R$126,"<="&DATE($A26,12,31),'Erhaltungsaufwand'!$S$2:$S$126,">="&DATE($A26,1,1)) | E26: =C26+D26 | F26: =SUMIFS('Erhaltungsaufwand'!$V$2:$V$126,'Erhaltungsaufwand'!$R$2:$R$126,"<="&DATE($A26,12,31),'Erhaltungsaufwand'!$S$2:$S$126,">="&DATE($A26,1,1)) | G26: =SUMIFS('Erhaltungsaufwand'!$W$2:$W$126,'Erhaltungsaufwand'!$R$2:$R$126,"<="&DATE($A26,12,31),'Erhaltungsaufwand'!$S$2:$S$126,">="&DATE($A26,1,1)) | H26: =COUNTIFS('Erhaltungsaufwand'!$R$2:$R$126,"<="&DATE($A26,12,31),'Erhaltungsaufwand'!$S$2:$S$126,">="&DATE($A26,1,1)) | I26: =IFERROR(B26/SUM($B$8:$B$101),0)
A27: 2045 | B27: =SUMIFS('Erhaltungsaufwand'!$N$2:$N$126,'Erhaltungsaufwand'!$K$2:$K$126,">="&DATE($A27,1,1),'Erhaltungsaufwand'!$K$2:$K$126,"<="&DATE($A27,12,31)) | C27: =SUMIFS('Erhaltungsaufwand'!$N$2:$N$126,'Erhaltungsaufwand'!$Q$2:$Q$126,1,'Erhaltungsaufwand'!$K$2:$K$126,">="&DATE($A27,1,1),'Erhaltungsaufwand'!$K$2:$K$126,"<="&DATE($A27,12,31)) | D27: =SUMIFS('Erhaltungsaufwand'!$T$2:$T$126,'Erhaltungsaufwand'!$Q$2:$Q$126,">1",'Erhaltungsaufwand'!$R$2:$R$126,"<="&DATE($A27,12,31),'Erhaltungsaufwand'!$S$2:$S$126,">="&DATE($A27,1,1)) | E27: =C27+D27 | F27: =SUMIFS('Erhaltungsaufwand'!$V$2:$V$126,'Erhaltungsaufwand'!$R$2:$R$126,"<="&DATE($A27,12,31),'Erhaltungsaufwand'!$S$2:$S$126,">="&DATE($A27,1,1)) | G27: =SUMIFS('Erhaltungsaufwand'!$W$2:$W$126,'Erhaltungsaufwand'!$R$2:$R$126,"<="&DATE($A27,12,31),'Erhaltungsaufwand'!$S$2:$S$126,">="&DATE($A27,1,1)) | H27: =COUNTIFS('Erhaltungsaufwand'!$R$2:$R$126,"<="&DATE($A27,12,31),'Erhaltungsaufwand'!$S$2:$S$126,">="&DATE($A27,1,1)) | I27: =IFERROR(B27/SUM($B$8:$B$101),0)
... A101: 2119 | B101: =SUMIFS('Erhaltungsaufwand'!$N$2:$N$126,'Erhaltungsaufwand'!$K$2:$K$126,">="&DATE($A101,1,1),'Erhaltungsaufwand'!$K$2:$K$126,"<="&DATE($A101,12,31)) | C101: =SUMIFS('Erhaltungsaufwand'!$N$2:$N$126,'Erhaltungsaufwand'!$Q$2:$Q$126,1,'Erhaltungsaufwand'!$K$2:$K$126,">="&DATE($A101,1,1),'Erhaltungsaufwand'!$K$2:$K$126,"<="&DATE($A101,12,31)) | D101: =SUMIFS('Erhaltungsaufwand'!$T$2:$T$126,'Erhaltungsaufwand'!$Q$2:$Q$126,">1",'Erhaltungsaufwand'!$R$2:$R$126,"<="&DATE($A101,12,31),'Erhaltungsaufwand'!$S$2:$S$126,">="&DATE($A101,1,1)) | E101: =C101+D101 | F101: =SUMIFS('Erhaltungsaufwand'!$V$2:$V$126,'Erhaltungsaufwand'!$R$2:$R$126,"<="&DATE($A101,12,31),'Erhaltungsaufwand'!$S$2:$S$126,">="&DATE($A101,1,1)) | G101: =SUMIFS('Erhaltungsaufwand'!$W$2:$W$126,'Erhaltungsaufwand'!$R$2:$R$126,"<="&DATE($A101,12,31),'Erhaltungsaufwand'!$S$2:$S$126,">="&DATE($A101,1,1)) | H101: =COUNTIFS('Erhaltungsaufwand'!$R$2:$R$126,"<="&DATE($A101,12,31),'Erhaltungsaufwand'!$S$2:$S$126,">="&DATE($A101,1,1)) | I101: =IFERROR(B101/SUM($B$8:$B$101),0)

Sheet Hinweise
A1: Hinweise zur Vorlage Erhaltungsaufwand – Verteilung über mehrere Jahre
A3: Thema | B3: Hinweis
A4: Zweck der Vorlage | B4: Diese Arbeitsmappe unterstützt Sie bei der Erfassung von Erhaltungsaufwendungen sowie bei der Planung einer möglichen Verteilung auf mehrere Jahre.
A5: Bedienung | B5: Füllen Sie die hellgelb hinterlegten Zellen im Tabellenblatt „Erhaltungsaufwand“ manuell aus. Berechnete Felder werden automatisch gefüllt.
A6: Betragserfassung | B6: Erfassen Sie Nettoaufwand und Vorsteuer nachvollziehbar. Der Bruttoaufwand wird automatisch berechnet. Verwenden Sie eine einheitliche Erfassungslogik.
A7: Verteilungszeitraum | B7: Ein Verteilungszeitraum von 1 bis 5 Jahren ist nur nach Prüfung der steuerlichen Voraussetzungen zu verwenden. Ein Zeitraum von 1 Jahr wird als Sofortabzug ausgewiesen.
A8: Steuerlicher Hinweis | B8: Die mögliche Verteilung größerer Erhaltungsaufwendungen kann sich nach § 82b EStDV richten. Die tatsächliche Anwendbarkeit ist für jeden Vorgang individuell zu prüfen.
A9: Anlage V | B9: Berücksichtigen Sie die Angaben in Ihrer Anlage V nur nach Abstimmung mit Ihrer Steuerberatung und anhand vollständiger Rechnungen, Zahlungsnachweise und Objektunterlagen.
A10: Abgrenzung | B10: Erhaltungsaufwand, Herstellungskosten und Modernisierung sind sorgfältig voneinander abzugrenzen. Diese Vorlage ersetzt keine steuerliche oder rechtliche Beratung.
A11: Mietrechtliche Umlage | B11: Die Umlagefähigkeit nach Mietrecht ist getrennt von der steuerlichen Abzugsfähigkeit zu beurteilen. Eine steuerliche Einordnung ist kein Nachweis der Umlagefähigkeit.
A12: Nicht enthalten | B12: Kaution, Betriebskosten, Hausgeld, Instandhaltungsrücklage sowie Mieteinnahmen sind nicht Bestandteil dieser Vorlage und sollten getrennt verwaltet werden.
A13: Dokumentation | B13: Bewahren Sie Rechnungen, Zahlungsbelege, Beschlüsse der Eigentümergemeinschaft und technische Unterlagen geordnet je Vorgang auf.
