Workbook

Sheet Einnahmen
A1: Anlage V – Einnahmen aus Vermietung und Verpachtung
A2: Erfassen Sie jede Einnahme einzeln. Gelb markierte Zellen sind Eingabefelder.
A3: Buchungsdatum | B3: Steuerjahr | C3: Objekt-ID | D3: Objektadresse | E3: Stadt | F3: Mieter / Vertragspartner | G3: Mietobjekt / Einheit | H3: Einnahmenart | I3: Abrechnungszeitraum von | J3: Abrechnungszeitraum bis | K3: Netto-Betrag | L3: Umlagefähige Nebenkosten | M3: Nicht umlagefähige Einnahmen | N3: Gesamteinnahmen | O3: Zahlungsstatus | P3: Zahlungseingang | Q3: Belegnummer | R3: Bemerkung | S3: Prüfstatus
A4: 46027 | B4: =IF('Einnahmen'!A4="","",YEAR('Einnahmen'!A4)) | C4: O-001 | D4: =IF('Einnahmen'!C4="","",IFERROR(VLOOKUP('Einnahmen'!C4,'Objekte'!$A$4:$D$103,2,FALSE),"Objekt nicht gefunden")) | E4: Berlin | F4: Thomas Becker | G4: Wohnung 1.OG | H4: Kaltmiete | I4: 46023 | J4: 46053 | K4: 850 | L4: 0 | M4: 0 | N4: =IF(COUNTA('Einnahmen'!K4:M4)=0,"",SUM('Einnahmen'!K4:M4)) | O4: Bezahlt | P4: 46027 | Q4: M-2026-001 | R4: Monatsmiete Januar | S4: =IF('Einnahmen'!N4="","",IF('Einnahmen'!N4=0,"Prüfen",IF('Einnahmen'!O4="Offen","Offener Zahlungseingang","OK")))
A5: 46027 | B5: =IF('Einnahmen'!A5="","",YEAR('Einnahmen'!A5)) | C5: O-001 | D5: =IF('Einnahmen'!C5="","",IFERROR(VLOOKUP('Einnahmen'!C5,'Objekte'!$A$4:$D$103,2,FALSE),"Objekt nicht gefunden")) | E5: Berlin | F5: Thomas Becker | G5: Wohnung 1.OG | H5: Nebenkostenvorauszahlung | I5: 46023 | J5: 46053 | K5: 0 | L5: 220 | M5: 0 | N5: =IF(COUNTA('Einnahmen'!K5:M5)=0,"",SUM('Einnahmen'!K5:M5)) | O5: Bezahlt | P5: 46027 | Q5: NK-2026-001 | R5: Vorauszahlung Januar | S5: =IF('Einnahmen'!N5="","",IF('Einnahmen'!N5=0,"Prüfen",IF('Einnahmen'!O5="Offen","Offener Zahlungseingang","OK")))
A6: 46056 | B6: =IF('Einnahmen'!A6="","",YEAR('Einnahmen'!A6)) | C6: O-002 | D6: =IF('Einnahmen'!C6="","",IFERROR(VLOOKUP('Einnahmen'!C6,'Objekte'!$A$4:$D$103,2,FALSE),"Objekt nicht gefunden")) | E6: München | F6: Sabine Müller | G6: Wohnung EG | H6: Kaltmiete | I6: 46054 | J6: 46081 | K6: 1120 | L6: 0 | M6: 0 | N6: =IF(COUNTA('Einnahmen'!K6:M6)=0,"",SUM('Einnahmen'!K6:M6)) | O6: Bezahlt | P6: 46056 | Q6: M-2026-002 | R6: Monatsmiete Februar | S6: =IF('Einnahmen'!N6="","",IF('Einnahmen'!N6=0,"Prüfen",IF('Einnahmen'!O6="Offen","Offener Zahlungseingang","OK")))
A7: 46056 | B7: =IF('Einnahmen'!A7="","",YEAR('Einnahmen'!A7)) | C7: O-002 | D7: =IF('Einnahmen'!C7="","",IFERROR(VLOOKUP('Einnahmen'!C7,'Objekte'!$A$4:$D$103,2,FALSE),"Objekt nicht gefunden")) | E7: München | F7: Sabine Müller | G7: Wohnung EG | H7: Garagenmiete | I7: 46054 | J7: 46081 | K7: 90 | L7: 0 | M7: 0 | N7: =IF(COUNTA('Einnahmen'!K7:M7)=0,"",SUM('Einnahmen'!K7:M7)) | O7: Offen | Q7: G-2026-002 | R7: Garagenmiete Februar | S7: =IF('Einnahmen'!N7="","",IF('Einnahmen'!N7=0,"Prüfen",IF('Einnahmen'!O7="Offen","Offener Zahlungseingang","OK")))
A8: 46085 | B8: =IF('Einnahmen'!A8="","",YEAR('Einnahmen'!A8)) | C8: O-003 | D8: =IF('Einnahmen'!C8="","",IFERROR(VLOOKUP('Einnahmen'!C8,'Objekte'!$A$4:$D$103,2,FALSE),"Objekt nicht gefunden")) | E8: Hamburg | F8: Andreas Schneider | G8: Wohnung 2.OG | H8: Kaltmiete | I8: 46082 | J8: 46112 | K8: 980 | L8: 0 | M8: 0 | N8: =IF(COUNTA('Einnahmen'!K8:M8)=0,"",SUM('Einnahmen'!K8:M8)) | O8: Bezahlt | P8: 46085 | Q8: M-2026-003 | R8: Monatsmiete März | S8: =IF('Einnahmen'!N8="","",IF('Einnahmen'!N8=0,"Prüfen",IF('Einnahmen'!O8="Offen","Offener Zahlungseingang","OK")))
A9: 46118 | B9: =IF('Einnahmen'!A9="","",YEAR('Einnahmen'!A9)) | C9: O-004 | D9: =IF('Einnahmen'!C9="","",IFERROR(VLOOKUP('Einnahmen'!C9,'Objekte'!$A$4:$D$103,2,FALSE),"Objekt nicht gefunden")) | E9: Köln | F9: Petra Wagner | G9: Wohnung 3.OG | H9: Nebenkostenvorauszahlung | I9: 46113 | J9: 46142 | K9: 0 | L9: 245 | M9: 0 | N9: =IF(COUNTA('Einnahmen'!K9:M9)=0,"",SUM('Einnahmen'!K9:M9)) | O9: Bezahlt | P9: 46118 | Q9: NK-2026-004 | R9: Vorauszahlung April | S9: =IF('Einnahmen'!N9="","",IF('Einnahmen'!N9=0,"Prüfen",IF('Einnahmen'!O9="Offen","Offener Zahlungseingang","OK")))
A10: 46147 | B10: =IF('Einnahmen'!A10="","",YEAR('Einnahmen'!A10)) | C10: O-005 | D10: =IF('Einnahmen'!C10="","",IFERROR(VLOOKUP('Einnahmen'!C10,'Objekte'!$A$4:$D$103,2,FALSE),"Objekt nicht gefunden")) | E10: Frankfurt am Main | F10: Michael Hoffmann | G10: Wohnung 1.OG | H10: Kaltmiete | I10: 46143 | J10: 46173 | K10: 1050 | L10: 0 | M10: 0 | N10: =IF(COUNTA('Einnahmen'!K10:M10)=0,"",SUM('Einnahmen'!K10:M10)) | O10: Bezahlt | P10: 46147 | Q10: M-2026-005 | R10: Monatsmiete Mai | S10: =IF('Einnahmen'!N10="","",IF('Einnahmen'!N10=0,"Prüfen",IF('Einnahmen'!O10="Offen","Offener Zahlungseingang","OK")))
A11: 46175 | B11: =IF('Einnahmen'!A11="","",YEAR('Einnahmen'!A11)) | C11: O-006 | D11: =IF('Einnahmen'!C11="","",IFERROR(VLOOKUP('Einnahmen'!C11,'Objekte'!$A$4:$D$103,2,FALSE),"Objekt nicht gefunden")) | E11: Stuttgart | F11: Julia Richter | G11: Wohnung DG | H11: Stellplatzmiete | I11: 46174 | J11: 46203 | K11: 65 | L11: 0 | M11: 0 | N11: =IF(COUNTA('Einnahmen'!K11:M11)=0,"",SUM('Einnahmen'!K11:M11)) | O11: Bezahlt | P11: 46175 | Q11: SP-2026-006 | R11: Stellplatzmiete Juni | S11: =IF('Einnahmen'!N11="","",IF('Einnahmen'!N11=0,"Prüfen",IF('Einnahmen'!O11="Offen","Offener Zahlungseingang","OK")))
A12: 46217 | B12: =IF('Einnahmen'!A12="","",YEAR('Einnahmen'!A12)) | C12: O-007 | D12: =IF('Einnahmen'!C12="","",IFERROR(VLOOKUP('Einnahmen'!C12,'Objekte'!$A$4:$D$103,2,FALSE),"Objekt nicht gefunden")) | E12: Düsseldorf | F12: Thomas Becker | G12: Wohnung 2.OG | H12: Nachzahlung Nebenkosten | I12: 46023 | J12: 46203 | K12: 0 | L12: 165 | M12: 0 | N12: =IF(COUNTA('Einnahmen'!K12:M12)=0,"",SUM('Einnahmen'!K12:M12)) | O12: Bezahlt | P12: 46217 | Q12: NK-2026-007 | R12: Nebenkostenabrechnung | S12: =IF('Einnahmen'!N12="","",IF('Einnahmen'!N12=0,"Prüfen",IF('Einnahmen'!O12="Offen","Offener Zahlungseingang","OK")))
A13: 46244 | B13: =IF('Einnahmen'!A13="","",YEAR('Einnahmen'!A13)) | C13: O-008 | D13: =IF('Einnahmen'!C13="","",IFERROR(VLOOKUP('Einnahmen'!C13,'Objekte'!$A$4:$D$103,2,FALSE),"Objekt nicht gefunden")) | E13: Leipzig | F13: RheinMain Gewerbe GmbH | G13: Gewerbeeinheit EG | H13: Sonstige Einnahmen | I13: 46235 | J13: 46265 | K13: 0 | L13: 0 | M13: 280 | N13: =IF(COUNTA('Einnahmen'!K13:M13)=0,"",SUM('Einnahmen'!K13:M13)) | O13: Bezahlt | P13: 46244 | Q13: SO-2026-008 | R13: Vertragsgebühr | S13: =IF('Einnahmen'!N13="","",IF('Einnahmen'!N13=0,"Prüfen",IF('Einnahmen'!O13="Offen","Offener Zahlungseingang","OK")))
B14: =IF('Einnahmen'!A14="","",YEAR('Einnahmen'!A14)) | D14: =IF('Einnahmen'!C14="","",IFERROR(VLOOKUP('Einnahmen'!C14,'Objekte'!$A$4:$D$103,2,FALSE),"Objekt nicht gefunden")) | N14: =IF(COUNTA('Einnahmen'!K14:M14)=0,"",SUM('Einnahmen'!K14:M14)) | S14: =IF('Einnahmen'!N14="","",IF('Einnahmen'!N14=0,"Prüfen",IF('Einnahmen'!O14="Offen","Offener Zahlungseingang","OK")))
B15: =IF('Einnahmen'!A15="","",YEAR('Einnahmen'!A15)) | D15: =IF('Einnahmen'!C15="","",IFERROR(VLOOKUP('Einnahmen'!C15,'Objekte'!$A$4:$D$103,2,FALSE),"Objekt nicht gefunden")) | N15: =IF(COUNTA('Einnahmen'!K15:M15)=0,"",SUM('Einnahmen'!K15:M15)) | S15: =IF('Einnahmen'!N15="","",IF('Einnahmen'!N15=0,"Prüfen",IF('Einnahmen'!O15="Offen","Offener Zahlungseingang","OK")))
B16: =IF('Einnahmen'!A16="","",YEAR('Einnahmen'!A16)) | D16: =IF('Einnahmen'!C16="","",IFERROR(VLOOKUP('Einnahmen'!C16,'Objekte'!$A$4:$D$103,2,FALSE),"Objekt nicht gefunden")) | N16: =IF(COUNTA('Einnahmen'!K16:M16)=0,"",SUM('Einnahmen'!K16:M16)) | S16: =IF('Einnahmen'!N16="","",IF('Einnahmen'!N16=0,"Prüfen",IF('Einnahmen'!O16="Offen","Offener Zahlungseingang","OK")))
B17: =IF('Einnahmen'!A17="","",YEAR('Einnahmen'!A17)) | D17: =IF('Einnahmen'!C17="","",IFERROR(VLOOKUP('Einnahmen'!C17,'Objekte'!$A$4:$D$103,2,FALSE),"Objekt nicht gefunden")) | N17: =IF(COUNTA('Einnahmen'!K17:M17)=0,"",SUM('Einnahmen'!K17:M17)) | S17: =IF('Einnahmen'!N17="","",IF('Einnahmen'!N17=0,"Prüfen",IF('Einnahmen'!O17="Offen","Offener Zahlungseingang","OK")))
B18: =IF('Einnahmen'!A18="","",YEAR('Einnahmen'!A18)) | D18: =IF('Einnahmen'!C18="","",IFERROR(VLOOKUP('Einnahmen'!C18,'Objekte'!$A$4:$D$103,2,FALSE),"Objekt nicht gefunden")) | N18: =IF(COUNTA('Einnahmen'!K18:M18)=0,"",SUM('Einnahmen'!K18:M18)) | S18: =IF('Einnahmen'!N18="","",IF('Einnahmen'!N18=0,"Prüfen",IF('Einnahmen'!O18="Offen","Offener Zahlungseingang","OK")))
B19: =IF('Einnahmen'!A19="","",YEAR('Einnahmen'!A19)) | D19: =IF('Einnahmen'!C19="","",IFERROR(VLOOKUP('Einnahmen'!C19,'Objekte'!$A$4:$D$103,2,FALSE),"Objekt nicht gefunden")) | N19: =IF(COUNTA('Einnahmen'!K19:M19)=0,"",SUM('Einnahmen'!K19:M19)) | S19: =IF('Einnahmen'!N19="","",IF('Einnahmen'!N19=0,"Prüfen",IF('Einnahmen'!O19="Offen","Offener Zahlungseingang","OK")))
B20: =IF('Einnahmen'!A20="","",YEAR('Einnahmen'!A20)) | D20: =IF('Einnahmen'!C20="","",IFERROR(VLOOKUP('Einnahmen'!C20,'Objekte'!$A$4:$D$103,2,FALSE),"Objekt nicht gefunden")) | N20: =IF(COUNTA('Einnahmen'!K20:M20)=0,"",SUM('Einnahmen'!K20:M20)) | S20: =IF('Einnahmen'!N20="","",IF('Einnahmen'!N20=0,"Prüfen",IF('Einnahmen'!O20="Offen","Offener Zahlungseingang","OK")))
B21: =IF('Einnahmen'!A21="","",YEAR('Einnahmen'!A21)) | D21: =IF('Einnahmen'!C21="","",IFERROR(VLOOKUP('Einnahmen'!C21,'Objekte'!$A$4:$D$103,2,FALSE),"Objekt nicht gefunden")) | N21: =IF(COUNTA('Einnahmen'!K21:M21)=0,"",SUM('Einnahmen'!K21:M21)) | S21: =IF('Einnahmen'!N21="","",IF('Einnahmen'!N21=0,"Prüfen",IF('Einnahmen'!O21="Offen","Offener Zahlungseingang","OK")))
B22: =IF('Einnahmen'!A22="","",YEAR('Einnahmen'!A22)) | D22: =IF('Einnahmen'!C22="","",IFERROR(VLOOKUP('Einnahmen'!C22,'Objekte'!$A$4:$D$103,2,FALSE),"Objekt nicht gefunden")) | N22: =IF(COUNTA('Einnahmen'!K22:M22)=0,"",SUM('Einnahmen'!K22:M22)) | S22: =IF('Einnahmen'!N22="","",IF('Einnahmen'!N22=0,"Prüfen",IF('Einnahmen'!O22="Offen","Offener Zahlungseingang","OK")))
B23: =IF('Einnahmen'!A23="","",YEAR('Einnahmen'!A23)) | D23: =IF('Einnahmen'!C23="","",IFERROR(VLOOKUP('Einnahmen'!C23,'Objekte'!$A$4:$D$103,2,FALSE),"Objekt nicht gefunden")) | N23: =IF(COUNTA('Einnahmen'!K23:M23)=0,"",SUM('Einnahmen'!K23:M23)) | S23: =IF('Einnahmen'!N23="","",IF('Einnahmen'!N23=0,"Prüfen",IF('Einnahmen'!O23="Offen","Offener Zahlungseingang","OK")))
B24: =IF('Einnahmen'!A24="","",YEAR('Einnahmen'!A24)) | D24: =IF('Einnahmen'!C24="","",IFERROR(VLOOKUP('Einnahmen'!C24,'Objekte'!$A$4:$D$103,2,FALSE),"Objekt nicht gefunden")) | N24: =IF(COUNTA('Einnahmen'!K24:M24)=0,"",SUM('Einnahmen'!K24:M24)) | S24: =IF('Einnahmen'!N24="","",IF('Einnahmen'!N24=0,"Prüfen",IF('Einnahmen'!O24="Offen","Offener Zahlungseingang","OK")))
B25: =IF('Einnahmen'!A25="","",YEAR('Einnahmen'!A25)) | D25: =IF('Einnahmen'!C25="","",IFERROR(VLOOKUP('Einnahmen'!C25,'Objekte'!$A$4:$D$103,2,FALSE),"Objekt nicht gefunden")) | N25: =IF(COUNTA('Einnahmen'!K25:M25)=0,"",SUM('Einnahmen'!K25:M25)) | S25: =IF('Einnahmen'!N25="","",IF('Einnahmen'!N25=0,"Prüfen",IF('Einnahmen'!O25="Offen","Offener Zahlungseingang","OK")))
... B103: =IF('Einnahmen'!A103="","",YEAR('Einnahmen'!A103)) | D103: =IF('Einnahmen'!C103="","",IFERROR(VLOOKUP('Einnahmen'!C103,'Objekte'!$A$4:$D$103,2,FALSE),"Objekt nicht gefunden")) | N103: =IF(COUNTA('Einnahmen'!K103:M103)=0,"",SUM('Einnahmen'!K103:M103)) | S103: =IF('Einnahmen'!N103="","",IF('Einnahmen'!N103=0,"Prüfen",IF('Einnahmen'!O103="Offen","Offener Zahlungseingang","OK")))

Sheet Objekte
A1: Objektstammdaten für die Einnahmenerfassung
A2: Legen Sie Objekte zuerst an. Die Objekt-ID wird im Blatt Einnahmen für die automatische Adresszuordnung verwendet.
A3: Objekt-ID | B3: Objektadresse | C3: PLZ | D3: Stadt | E3: Einheit | F3: Wohnfläche m² | G3: Nutzungsart | H3: Eigentümer | I3: Kaufdatum | J3: Notiz
A4: O-001 | B4: Hauptstraße 12 | C4: 10115 | D4: Berlin | E4: Wohnung 1.OG | F4: 72.5 | G4: Wohnraum | H4: Thomas Becker | I4: 46037 | J4: Vermietet
A5: O-002 | B5: Lindenallee 7 | C5: 80331 | D5: München | E5: Wohnung EG | F5: 68 | G5: Wohnraum | H5: Sabine Müller | I5: 46063 | J5: Mit Garage
A6: O-003 | B6: Goethestraße 45 | C6: 20095 | D6: Hamburg | E6: Wohnung 2.OG | F6: 81.2 | G6: Wohnraum | H6: Andreas Schneider | I6: 46086 | J6: Innenstadtlage
A7: O-004 | B7: Domstraße 18 | C7: 50667 | D7: Köln | E7: Wohnung 3.OG | F7: 76.8 | G7: Wohnraum | H7: Petra Wagner | I7: 46120 | J7: Balkon
A8: O-005 | B8: Berger Straße 22 | C8: 60316 | D8: Frankfurt am Main | E8: Wohnung 1.OG | F8: 89.4 | G8: Wohnraum | H8: Michael Hoffmann | I8: 46154 | J8: Modernisiert
A9: O-006 | B9: Rosenstraße 9 | C9: 70173 | D9: Stuttgart | E9: Wohnung DG | F9: 63.1 | G9: Wohnraum | H9: Julia Richter | I9: 46191 | J9: Dachgeschoss
A10: O-007 | B10: Königsallee 31 | C10: 40212 | D10: Düsseldorf | E10: Wohnung 2.OG | F10: 84.6 | G10: Wohnraum | H10: Thomas Becker | I10: 46210 | J10: Stellplatz vorhanden
A11: O-008 | B11: Karl-Liebknecht-Straße 14 | C11: 04107 | D11: Leipzig | E11: Gewerbeeinheit EG | F11: 94.5 | G11: Gewerbe | H11: RheinMain Vermietung GmbH | I11: 46237 | J11: Gewerbliche Nutzung

Sheet Auswertung
A1: Auswertung Anlage V – Einnahmenübersicht
A2: Wählen Sie das Steuerjahr aus. Alle Kennzahlen und Diagramme beziehen sich auf das gewählte Jahr.
A3: Steuerjahr | B3: 2026
A5: Kennzahl | B5: Wert | D5: Einnahmenart | E5: Betrag
A6: Gesamteinnahmen | B6: =SUMIF('Einnahmen'!$B$4:$B$103,'Auswertung'!$B$3,'Einnahmen'!$N$4:$N$103) | D6: Kaltmiete | E6: =SUMIFS('Einnahmen'!$N$4:$N$103,'Einnahmen'!$B$4:$B$103,'Auswertung'!$B$3,'Einnahmen'!$H$4:$H$103,'Auswertung'!$D$6)
A7: Kaltmieten | B7: ='Auswertung'!$E$6 | D7: Nebenkostenvorauszahlung | E7: =SUMIFS('Einnahmen'!$N$4:$N$103,'Einnahmen'!$B$4:$B$103,'Auswertung'!$B$3,'Einnahmen'!$H$4:$H$103,'Auswertung'!$D$7)
A8: Umlagefähige Nebenkosten | B8: =SUMIFS('Einnahmen'!$L$4:$L$103,'Einnahmen'!$B$4:$B$103,'Auswertung'!$B$3) | D8: Nachzahlung Nebenkosten | E8: =SUMIFS('Einnahmen'!$N$4:$N$103,'Einnahmen'!$B$4:$B$103,'Auswertung'!$B$3,'Einnahmen'!$H$4:$H$103,'Auswertung'!$D$8)
A9: Stellplatz- und Garageneinnahmen | B9: =SUM('Auswertung'!$E$9:'Auswertung'!$E$10) | D9: Stellplatzmiete | E9: =SUMIFS('Einnahmen'!$N$4:$N$103,'Einnahmen'!$B$4:$B$103,'Auswertung'!$B$3,'Einnahmen'!$H$4:$H$103,'Auswertung'!$D$9)
A10: Sonstige Einnahmen | B10: =SUM('Auswertung'!$E$8,'Auswertung'!$E$11) | D10: Garagenmiete | E10: =SUMIFS('Einnahmen'!$N$4:$N$103,'Einnahmen'!$B$4:$B$103,'Auswertung'!$B$3,'Einnahmen'!$H$4:$H$103,'Auswertung'!$D$10)
A11: Anzahl Buchungen | B11: =COUNTIF('Einnahmen'!$B$4:$B$103,'Auswertung'!$B$3) | D11: Sonstige Einnahmen | E11: =SUMIFS('Einnahmen'!$N$4:$N$103,'Einnahmen'!$B$4:$B$103,'Auswertung'!$B$3,'Einnahmen'!$H$4:$H$103,'Auswertung'!$D$11)
A12: Durchschnittliche Einnahme je Buchung | B12: =IFERROR(AVERAGEIFS('Einnahmen'!$N$4:$N$103,'Einnahmen'!$B$4:$B$103,'Auswertung'!$B$3),0) | E12: =""
A13: Offene Zahlungseingänge | B13: =COUNTIFS('Einnahmen'!$B$4:$B$103,'Einnahmen'!$B$3,'Einnahmen'!$O$4:$O$103,"Offen") | E13: =""
A14: Anteil Kaltmiete an Gesamteinnahmen | B14: =IFERROR('Auswertung'!$B$7/'Auswertung'!$B$6,0) | E14: =""
E15: =""
E16: =""
A17: Monat | B17: Gesamteinnahmen | C17: Zeitraum von | D17: Zeitraum bis | E17: =""
A18: Januar | B18: =IF('Auswertung'!$B$3="","",SUMIFS('Einnahmen'!$N$4:$N$103,'Einnahmen'!$B$4:$B$103,'Auswertung'!$B$3,'Einnahmen'!$A$4:$A$103,">="&'Auswertung'!$C$18,'Einnahmen'!$A$4:$A$103,"<"&'Auswertung'!$D$18)) | C18: =IF('Auswertung'!$B$3="","",DATE('Auswertung'!$B$3,1,1)) | D18: =IF('Auswertung'!$C$18="","",DATE('Auswertung'!$B$3,2,1)) | E18: =""
A19: Februar | B19: =IF('Auswertung'!$B$3="","",SUMIFS('Einnahmen'!$N$4:$N$103,'Einnahmen'!$B$4:$B$103,'Auswertung'!$B$3,'Einnahmen'!$A$4:$A$103,">="&'Auswertung'!$C$19,'Einnahmen'!$A$4:$A$103,"<"&'Auswertung'!$D$19)) | C19: =IF('Auswertung'!$D$18="","",'Auswertung'!$D$18) | D19: =IF('Auswertung'!$C$19="","",DATE('Auswertung'!$B$3,3,1)) | E19: =""
A20: März | B20: =IF('Auswertung'!$B$3="","",SUMIFS('Einnahmen'!$N$4:$N$103,'Einnahmen'!$B$4:$B$103,'Auswertung'!$B$3,'Einnahmen'!$A$4:$A$103,">="&'Auswertung'!$C$20,'Einnahmen'!$A$4:$A$103,"<"&'Auswertung'!$D$20)) | C20: =IF('Auswertung'!$D$19="","",'Auswertung'!$D$19) | D20: =IF('Auswertung'!$C$20="","",DATE('Auswertung'!$B$3,4,1)) | E20: =""
A21: April | B21: =IF('Auswertung'!$B$3="","",SUMIFS('Einnahmen'!$N$4:$N$103,'Einnahmen'!$B$4:$B$103,'Auswertung'!$B$3,'Einnahmen'!$A$4:$A$103,">="&'Auswertung'!$C$21,'Einnahmen'!$A$4:$A$103,"<"&'Auswertung'!$D$21)) | C21: =IF('Auswertung'!$D$20="","",'Auswertung'!$D$20) | D21: =IF('Auswertung'!$C$21="","",DATE('Auswertung'!$B$3,5,1)) | E21: =""
A22: Mai | B22: =IF('Auswertung'!$B$3="","",SUMIFS('Einnahmen'!$N$4:$N$103,'Einnahmen'!$B$4:$B$103,'Auswertung'!$B$3,'Einnahmen'!$A$4:$A$103,">="&'Auswertung'!$C$22,'Einnahmen'!$A$4:$A$103,"<"&'Auswertung'!$D$22)) | C22: =IF('Auswertung'!$D$21="","",'Auswertung'!$D$21) | D22: =IF('Auswertung'!$C$22="","",DATE('Auswertung'!$B$3,6,1)) | E22: =""
A23: Juni | B23: =IF('Auswertung'!$B$3="","",SUMIFS('Einnahmen'!$N$4:$N$103,'Einnahmen'!$B$4:$B$103,'Auswertung'!$B$3,'Einnahmen'!$A$4:$A$103,">="&'Auswertung'!$C$23,'Einnahmen'!$A$4:$A$103,"<"&'Auswertung'!$D$23)) | C23: =IF('Auswertung'!$D$22="","",'Auswertung'!$D$22) | D23: =IF('Auswertung'!$C$23="","",DATE('Auswertung'!$B$3,7,1)) | E23: =""
A24: Juli | B24: =IF('Auswertung'!$B$3="","",SUMIFS('Einnahmen'!$N$4:$N$103,'Einnahmen'!$B$4:$B$103,'Auswertung'!$B$3,'Einnahmen'!$A$4:$A$103,">="&'Auswertung'!$C$24,'Einnahmen'!$A$4:$A$103,"<"&'Auswertung'!$D$24)) | C24: =IF('Auswertung'!$D$23="","",'Auswertung'!$D$23) | D24: =IF('Auswertung'!$C$24="","",DATE('Auswertung'!$B$3,8,1)) | E24: =""
A25: August | B25: =IF('Auswertung'!$B$3="","",SUMIFS('Einnahmen'!$N$4:$N$103,'Einnahmen'!$B$4:$B$103,'Auswertung'!$B$3,'Einnahmen'!$A$4:$A$103,">="&'Auswertung'!$C$25,'Einnahmen'!$A$4:$A$103,"<"&'Auswertung'!$D$25)) | C25: =IF('Auswertung'!$D$24="","",'Auswertung'!$D$24) | D25: =IF('Auswertung'!$C$25="","",DATE('Auswertung'!$B$3,9,1)) | E25: =""
A26: September | B26: =IF('Auswertung'!$B$3="","",SUMIFS('Einnahmen'!$N$4:$N$103,'Einnahmen'!$B$4:$B$103,'Auswertung'!$B$3,'Einnahmen'!$A$4:$A$103,">="&'Auswertung'!$C$26,'Einnahmen'!$A$4:$A$103,"<"&'Auswertung'!$D$26)) | C26: =IF('Auswertung'!$D$25="","",'Auswertung'!$D$25) | D26: =IF('Auswertung'!$C$26="","",DATE('Auswertung'!$B$3,10,1)) | E26: =""
A27: Oktober | B27: =IF('Auswertung'!$B$3="","",SUMIFS('Einnahmen'!$N$4:$N$103,'Einnahmen'!$B$4:$B$103,'Auswertung'!$B$3,'Einnahmen'!$A$4:$A$103,">="&'Auswertung'!$C$27,'Einnahmen'!$A$4:$A$103,"<"&'Auswertung'!$D$27)) | C27: =IF('Auswertung'!$D$26="","",'Auswertung'!$D$26) | D27: =IF('Auswertung'!$C$27="","",DATE('Auswertung'!$B$3,11,1)) | E27: =""
A28: November | B28: =IF('Auswertung'!$B$3="","",SUMIFS('Einnahmen'!$N$4:$N$103,'Einnahmen'!$B$4:$B$103,'Auswertung'!$B$3,'Einnahmen'!$A$4:$A$103,">="&'Auswertung'!$C$28,'Einnahmen'!$A$4:$A$103,"<"&'Auswertung'!$D$28)) | C28: =IF('Auswertung'!$D$27="","",'Auswertung'!$D$27) | D28: =IF('Auswertung'!$C$28="","",DATE('Auswertung'!$B$3,12,1)) | E28: =""
A29: Dezember | B29: =IF('Auswertung'!$B$3="","",SUMIFS('Einnahmen'!$N$4:$N$103,'Einnahmen'!$B$4:$B$103,'Auswertung'!$B$3,'Einnahmen'!$A$4:$A$103,">="&'Auswertung'!$C$29,'Einnahmen'!$A$4:$A$103,"<"&'Auswertung'!$D$29)) | C29: =IF('Auswertung'!$D$28="","",'Auswertung'!$D$28) | D29: =IF('Auswertung'!$C$29="","",DATE('Auswertung'!$B$3+1,1,1)) | E29: =""
B30: ="" | C30: ="" | D30: ="" | E30: =""
B31: ="" | C31: ="" | D31: ="" | E31: =""
B32: ="" | C32: ="" | D32: ="" | E32: =""
B33: ="" | C33: ="" | D33: ="" | E33: =""
B34: ="" | C34: ="" | D34: ="" | E34: =""
B35: ="" | C35: ="" | D35: ="" | E35: =""
B36: ="" | C36: ="" | D36: ="" | E36: =""
B37: ="" | C37: ="" | D37: ="" | E37: =""
B38: ="" | C38: ="" | D38: ="" | E38: =""
B39: ="" | C39: ="" | D39: ="" | E39: =""
B40: ="" | C40: ="" | D40: ="" | E40: =""
B41: ="" | C41: ="" | D41: ="" | E41: =""
... B101: ="" | C101: ="" | D101: ="" | E101: =""

Sheet Anleitung
A1: Anleitung zur Anlage-V-Einnahmenerfassung
A3: Schritt | B3: Hinweis | C3: Betroffenes Blatt | D3: Wichtige Information
A4: 1 | B4: Legen Sie zuerst jedes Mietobjekt mit einer eindeutigen Objekt-ID an. | C4: Objekte | D4: Die Objekt-ID ermöglicht die automatische Übernahme der Objektadresse.
A5: 2 | B5: Erfassen Sie jede Zahlung als einzelne Buchungszeile. | C5: Einnahmen | D5: Verwenden Sie für verschiedene Zahlungsarten getrennte Zeilen.
A6: 3 | B6: Verwenden Sie die Einnahmenarten konsistent über alle Buchungen hinweg. | C6: Einnahmen | D6: Nutzen Sie die vorgegebenen Auswahllisten.
A7: 4 | B7: Bewahren Sie Belege und Kontoauszüge passend zur Belegnummer auf. | C7: Einnahmen | D7: Die Belegnummer erleichtert die spätere steuerliche Prüfung.
A8: 5 | B8: Prüfen Sie die erfassten Einnahmen vor der Übernahme in die Anlage V steuerlich. | C8: Auswertung | D8: Diese Vorlage ersetzt keine steuerliche Beratung.
A9: 6 | B9: Dokumentieren Sie Nebenkostenvorauszahlungen und Nachzahlungen getrennt. | C9: Einnahmen | D9: So bleiben Umlagen und Abrechnungen nachvollziehbar.
A10: 7 | B10: Holen Sie bei gemischter oder gewerblicher Nutzung steuerliche Beratung ein. | C10: Objekte | D10: Besondere Nutzungsformen können abweichende steuerliche Folgen haben.
A13: Hinweis | B13: Die Auswertung ist für das ausgewählte Steuerjahr vorgesehen. Kontrollieren Sie Buchungsdaten, Zahlungsstatus und Belegnummern vor der Abgabe Ihrer Einkommensteuererklärung.
